BEGIN:VCALENDAR
VERSION:2.0
PRODID:-//Octubre Centre de Cultura Contemporània - ECPv5.1.6//NONSGML v1.0//EN
CALSCALE:GREGORIAN
METHOD:PUBLISH
X-WR-CALNAME:Octubre Centre de Cultura Contemporània
X-ORIGINAL-URL:https://octubre.cat
X-WR-CALDESC:Events for Octubre Centre de Cultura Contemporània
BEGIN:VTIMEZONE
TZID:Europe/Andorra
BEGIN:DAYLIGHT
TZOFFSETFROM:+0100
TZOFFSETTO:+0200
TZNAME:CEST
DTSTART:20150329T010000
END:DAYLIGHT
BEGIN:STANDARD
TZOFFSETFROM:+0200
TZOFFSETTO:+0100
TZNAME:CET
DTSTART:20151025T010000
END:STANDARD
END:VTIMEZONE
BEGIN:VEVENT
DTSTART;TZID=Europe/Andorra:20150507T000000
DTEND;TZID=Europe/Andorra:20150606T000000
DTSTAMP:20260422T062423
CREATED:20200729T171038Z
LAST-MODIFIED:20200903T153526Z
UID:10155-1430956800-1433548800@octubre.cat
SUMMARY:'Pàgines sense límits'
DESCRIPTION:Inauguració: dijous 7 de maig a les 20.00h \n“Editor independent és aquell que edita el que li agrada per tal d’alimentar l’oferta i no de satisfer la demanda”. Definició de Paco Salinas. \nPàgines sense límits mostra una selecció de revistes acoblades des dels anys 80 fins l’actualitat. L’objectiu d’aquesta exposició és mostrar les diverses tendències i suports d’aquest sector de la creació\, atenent especialment a les tècniques de reproducció i disseny editorial. Amb textos o sense textos\, són revistes que transmeten emocions\, que exigeixen al lector que mire\, palpe\, manipule o interactue. Són revistes gens convencionals\, destinades a perdurar i convertir-se en objectes de col·leccionista pel seu tiratge escàs i per la manipulació de les seues pàgines. Algunes revistes que presentem mantenen la seua periodicitat però d’altres han desaparegut ja. \nEn exposició: Aire\, Al Buit\, Al-Harafish\, Branques\, Caja de Truenos\, CAPS.A.\, Carpetas del Paraiso\, Cauletes\, Cave Canis\, Container\, El Costurero de Aracne\, Fenici\, Fíjate\, Imbécil\, LaLata\, La Más Bella\, Malalletra\, Menú\, Relligat/Assembling-Metronom\, El Naufraguito\, La Nevera\, Pa’Comer’Aparte\, Papel Engomado\, Paper Mind\, Píntalo de Verde\, Salamandria\, Sandwich Club\, S.T. Libro Objeto\, Texto Poético\, La Ruta del Sentido\, Take Away\, Veneno\, La Wevera\, 598. \nComissària: Lupe Frígols\nDisseny del cartell: Ada Díez \nMostra basada principalment en la col·lecció de l’artista i editor Pepe Murciego \nOrganitzada per l’Octubre CCC\nCol·laboradors: Institut Confuci – Universitat de València / La Nau – Universitat de València / Escola d’Art i Superior de Disseny de València / Rotulate
URL:https://octubre.cat/activitat/pagines-sense-limits/
LOCATION:Sala d’exposicions
CATEGORIES:Exposicions
ATTACH;FMTTYPE=image/jpeg:https://octubre.cat/www/wp-content/uploads/2020/07/activitat2316.jpg
END:VEVENT
END:VCALENDAR