BEGIN:VCALENDAR
VERSION:2.0
PRODID:-//Octubre Centre de Cultura Contemporània - ECPv5.1.6//NONSGML v1.0//EN
CALSCALE:GREGORIAN
METHOD:PUBLISH
X-WR-CALNAME:Octubre Centre de Cultura Contemporània
X-ORIGINAL-URL:https://octubre.cat
X-WR-CALDESC:Events for Octubre Centre de Cultura Contemporània
BEGIN:VTIMEZONE
TZID:Europe/Andorra
BEGIN:DAYLIGHT
TZOFFSETFROM:+0100
TZOFFSETTO:+0200
TZNAME:CEST
DTSTART:20080330T010000
END:DAYLIGHT
BEGIN:STANDARD
TZOFFSETFROM:+0200
TZOFFSETTO:+0100
TZNAME:CET
DTSTART:20081026T010000
END:STANDARD
END:VTIMEZONE
BEGIN:VEVENT
DTSTART;TZID=Europe/Andorra:20080212T193000
DTEND;TZID=Europe/Andorra:20080212T193000
DTSTAMP:20260420T181205
CREATED:20200729T181722Z
LAST-MODIFIED:20200730T035624Z
UID:12484-1202844600-1202844600@octubre.cat
SUMMARY:Padre Toño. Un home\, un compromís\, una lluita\, d'Eduard Torres
DESCRIPTION:Dimarts 12\, 19.30h. La desaparició del rector valencià Antoni LLidó després del colp d’estat a Xile del 1973\, és un fet ben conegut. Aquest documental reconstrueix la vida del “Padre Toño” i les circumstàncies que desembocaren en el colp de Pinochet.  \n  \n  \n\nLa desaparició del rector valencià Antoni LLidó després del colp d’estat a Xile del 1973\, és un fet ben conegut. Aquest documental reconstrueix la vida del “Padre Toño” i les circumstàncies que desembocaren en el colp de Pinochet.  Fitxa tècnica: Direcció i guió: Eduard Torres Realització: Mª Luisa Blanco i Juan Carlos Sanjuan Producció: Ingrid Bernhard i JP Cine(Xile) Documentació: Javier Argente Any: 2004
URL:https://octubre.cat/activitat/padre-tono-un-home-un-compromis-una-lluita-deduard-torres/
LOCATION:No definit
CATEGORIES:Cicle de Documentals
ATTACH;FMTTYPE=image/jpeg:https://octubre.cat/www/wp-content/uploads/2020/07/cinema1.jpg
END:VEVENT
END:VCALENDAR