BEGIN:VCALENDAR
VERSION:2.0
PRODID:-//Octubre Centre de Cultura Contemporània - ECPv5.1.6//NONSGML v1.0//EN
CALSCALE:GREGORIAN
METHOD:PUBLISH
X-WR-CALNAME:Octubre Centre de Cultura Contemporània
X-ORIGINAL-URL:https://octubre.cat
X-WR-CALDESC:Events for Octubre Centre de Cultura Contemporània
BEGIN:VTIMEZONE
TZID:Europe/Andorra
BEGIN:DAYLIGHT
TZOFFSETFROM:+0100
TZOFFSETTO:+0200
TZNAME:CEST
DTSTART:20200329T010000
END:DAYLIGHT
BEGIN:STANDARD
TZOFFSETFROM:+0200
TZOFFSETTO:+0100
TZNAME:CET
DTSTART:20201025T010000
END:STANDARD
END:VTIMEZONE
BEGIN:VEVENT
DTSTART;TZID=Europe/Andorra:20201211T200000
DTEND;TZID=Europe/Andorra:20201211T200000
DTSTAMP:20260421T040525
CREATED:20201201T095704Z
LAST-MODIFIED:20201206T183221Z
UID:15654-1607716800-1607716800@octubre.cat
SUMMARY:Pacoenlaluna
DESCRIPTION:Pacoenlaluna presenta a València «Bohemios de etiqueta»\, un show amb bona lletra\, riures\, cor i molt de swing! \n \nObertura de portes: 19.30h\nEntrades anticipades (7 euros) a través de Notikumi
URL:https://octubre.cat/activitat/pacoenlaluna/
LOCATION:Sala d’actes
CATEGORIES:Espai Octubre Concerts
ATTACH;FMTTYPE=image/jpeg:https://octubre.cat/www/wp-content/uploads/2020/12/bohemios-de-etiqueta.jpeg
END:VEVENT
END:VCALENDAR