BEGIN:VCALENDAR
VERSION:2.0
PRODID:-//Octubre Centre de Cultura Contemporània - ECPv5.1.6//NONSGML v1.0//EN
CALSCALE:GREGORIAN
METHOD:PUBLISH
X-WR-CALNAME:Octubre Centre de Cultura Contemporània
X-ORIGINAL-URL:https://octubre.cat
X-WR-CALDESC:Events for Octubre Centre de Cultura Contemporània
BEGIN:VTIMEZONE
TZID:Europe/Andorra
BEGIN:DAYLIGHT
TZOFFSETFROM:+0100
TZOFFSETTO:+0200
TZNAME:CEST
DTSTART:20140330T010000
END:DAYLIGHT
BEGIN:STANDARD
TZOFFSETFROM:+0200
TZOFFSETTO:+0100
TZNAME:CET
DTSTART:20141026T010000
END:STANDARD
END:VTIMEZONE
BEGIN:VEVENT
DTSTART;TZID=Europe/Andorra:20141002T000000
DTEND;TZID=Europe/Andorra:20141017T000000
DTSTAMP:20260421T140305
CREATED:20200729T170630Z
LAST-MODIFIED:20200902T153652Z
UID:9885-1412208000-1413504000@octubre.cat
SUMMARY:'Pa/València'\, exposició de joieria
DESCRIPTION:Inauguració: dijous 2 d’octubre a les 20.30h \nMostra conjunta d’alumnes dels departaments de joieria de l’Escola d’Art “Mariano Timón” de Palència i de l’Escola d’Art i Superior de Disseny de València. Diàleg entre dues perspectives pedagògiques diferents per a un objectiu comú: la formació dels titulats tècnics en joieria. Els projectes exposats són la resposta lliure i particular dels estudiants als exercicis proposats en el programa. \nObres de: Marta Alonso Fernández\, Carolina de los Mozos\, Lucía Martina García\, Sofía Nava\, Beatriz García\, Cristina Álvarez\, Delia Luiña\, Pedro A. Zapatero\, Elena Padilla\, Bárbara Urueña\, Adrián del Río\, María Jesús Sevilla Mantecón\, Yolanda Álvarez Peláez\, Nieves Gómez Herranz\, María José Alfayate de Prada\, Yolanda Álvarez\, Inma San José Negro\, Sol Fuentes Arroyo\, Mercedes Pérez Ulloa\, Lourdes López de Cózar\, Joanna Burnus\, Yolanda Gil González\, Sara Jiménez Rubia\, María Climent Rodríguez\, Tina León\, Matilde Rodríguez de Vera Más\, Ana Mª Palomares Rius\, Chus Villalba Alba\, Laura Guillot Suay\, Beatriz Díaz Ceballos\, Luis Oswaldo Quishpe\, Javier Asensi Vives\, Natalia Araya\, Erica Jordán\, Myriam Moreno Martínez\, Tania Pérez García\, Lucía Sáez Castells\, Mar Barletta Bort\, José Antonio Molina \nOrganitzat pel Departament de Joieria de l’Escola d’Art i Superior de Disseny de València (EASD) amb la col·laboració de l’Octubre CCC
URL:https://octubre.cat/activitat/pa-valencia-exposicio-de-joieria/
LOCATION:Hall
CATEGORIES:Exposicions
ATTACH;FMTTYPE=image/jpeg:https://octubre.cat/www/wp-content/uploads/2020/07/activitat2139.jpg
END:VEVENT
END:VCALENDAR