BEGIN:VCALENDAR
VERSION:2.0
PRODID:-//Octubre Centre de Cultura Contemporània - ECPv5.1.6//NONSGML v1.0//EN
CALSCALE:GREGORIAN
METHOD:PUBLISH
X-WR-CALNAME:Octubre Centre de Cultura Contemporània
X-ORIGINAL-URL:https://octubre.cat
X-WR-CALDESC:Events for Octubre Centre de Cultura Contemporània
BEGIN:VTIMEZONE
TZID:Europe/Andorra
BEGIN:DAYLIGHT
TZOFFSETFROM:+0100
TZOFFSETTO:+0200
TZNAME:CEST
DTSTART:20110327T010000
END:DAYLIGHT
BEGIN:STANDARD
TZOFFSETFROM:+0200
TZOFFSETTO:+0100
TZNAME:CET
DTSTART:20111030T010000
END:STANDARD
END:VTIMEZONE
BEGIN:VEVENT
DTSTART;TZID=Europe/Andorra:20111121T190000
DTEND;TZID=Europe/Andorra:20111123T000000
DTSTAMP:20260421T161811
CREATED:20200729T165630Z
LAST-MODIFIED:20200730T042907Z
UID:9293-1321902000-1322006400@octubre.cat
SUMMARY:Pa negre
DESCRIPTION:21\, 22 i 23 de novembre\, a les 19h: projecció del film “Pa negre” d’Agustí Villaronga  \n  \n  \n\nProjecció del film Pa negre\, d’Agustí Villaronga.  Basada en la novel·la homònima d’Emili Teixidor. A partir d’un assassinat s’analitzen les relacions d’una família i el seu poble als anys 40. La pel·lícula barreja el gènere dramàtic\, el misteri per saber la veritat dels crims i un toc fantàstic relacionat amb els somnis i fantasmes que s’ofereixen com a alternativa als ulls infantils del protagonista\, qui marca el punt de vista de tot el relat  Organitzat per Acció Cultural del País Valencià amb la col·laboració del Servei de Política Lingüística de la Universitat de València  Preu entrada –3 € –2 € socis d’ACPV –L’entrada serà gratuïta amb el carnet de la Universitat de València  (més un acompanyant).  Podeu passar a recollir les entrades a partir d’una hora abans de la projecció.
URL:https://octubre.cat/activitat/pa-negre/
LOCATION:No definit
CATEGORIES:Cinema
ATTACH;FMTTYPE=image/jpeg:https://octubre.cat/www/wp-content/uploads/2020/07/activitat1526.jpg
END:VEVENT
END:VCALENDAR