BEGIN:VCALENDAR
VERSION:2.0
PRODID:-//Octubre Centre de Cultura Contemporània - ECPv5.1.6//NONSGML v1.0//EN
CALSCALE:GREGORIAN
METHOD:PUBLISH
X-WR-CALNAME:Octubre Centre de Cultura Contemporània
X-ORIGINAL-URL:https://octubre.cat
X-WR-CALDESC:Events for Octubre Centre de Cultura Contemporània
BEGIN:VTIMEZONE
TZID:Europe/Andorra
BEGIN:DAYLIGHT
TZOFFSETFROM:+0100
TZOFFSETTO:+0200
TZNAME:CEST
DTSTART:20140330T010000
END:DAYLIGHT
BEGIN:STANDARD
TZOFFSETFROM:+0200
TZOFFSETTO:+0100
TZNAME:CET
DTSTART:20141026T010000
END:STANDARD
END:VTIMEZONE
BEGIN:VEVENT
DTSTART;TZID=Europe/Andorra:20140702T190000
DTEND;TZID=Europe/Andorra:20140702T190000
DTSTAMP:20260421T031026
CREATED:20200729T170536Z
LAST-MODIFIED:20200730T041156Z
UID:9826-1404327600-1404327600@octubre.cat
SUMMARY:'Pa negre'\, d'Agustí Villaronga
DESCRIPTION:Dimecres 2 de juliol a les 19.00h. Dins del cicle Premis Turia 50 aniversari. Presentada pel protagonista\, l’actor Francesc Colomer  \n  \n  \n\n Premi Turia a la Millor Pel·lícula 2011 La projecció serà presentada pel protagonista\, l’actor Francesc Colomer  Sinopsi: Pa negre parla sobre la postguerra rural a Catalunya amb discurs no polític sinó emocional. En aquells anys durs de la postguerra\, l’Andreu\, un nen del bàndol dels republicans\, troba un dia al bosc els cadàvers d’un home i el seu fill. Les conseqüències porten a la desintegració de la seva família\, atrapada per mentides i culpes del passat. El mallorquí Agustí Villaronga\, director de la pel·lícula\, se centra en com la guerra afecta la gent\, al marge d’ideologies polítiques i amb la guerra només com a teló de fons.  Direcció: Agustí Villaronga (2010) Basada en la novel·la homònima d’Emili Teixidor Producció: Isona Passola Protagonistes: Francesc Colomer\, Marina Comas\, Nora Navas\, Roger Casamajor\, Lluïsa Castell  Entrada lliure
URL:https://octubre.cat/activitat/pa-negre-dagusti-villaronga/
LOCATION:Sala d’actes
CATEGORIES:Cicle Premis Turia 50 aniversari
ATTACH;FMTTYPE=image/jpeg:https://octubre.cat/www/wp-content/uploads/2020/07/activitat2107.jpg
END:VEVENT
END:VCALENDAR