BEGIN:VCALENDAR
VERSION:2.0
PRODID:-//Octubre Centre de Cultura Contemporània - ECPv5.1.6//NONSGML v1.0//EN
CALSCALE:GREGORIAN
METHOD:PUBLISH
X-WR-CALNAME:Octubre Centre de Cultura Contemporània
X-ORIGINAL-URL:https://octubre.cat
X-WR-CALDESC:Events for Octubre Centre de Cultura Contemporània
BEGIN:VTIMEZONE
TZID:Europe/Andorra
BEGIN:DAYLIGHT
TZOFFSETFROM:+0100
TZOFFSETTO:+0200
TZNAME:CEST
DTSTART:20090329T010000
END:DAYLIGHT
BEGIN:STANDARD
TZOFFSETFROM:+0200
TZOFFSETTO:+0100
TZNAME:CET
DTSTART:20091025T010000
END:STANDARD
END:VTIMEZONE
BEGIN:VEVENT
DTSTART;TZID=Europe/Andorra:20090123T200000
DTEND;TZID=Europe/Andorra:20090123T200000
DTSTAMP:20260420T104302
CREATED:20200730T035935Z
LAST-MODIFIED:20200730T035935Z
UID:14070-1232740800-1232740800@octubre.cat
SUMMARY:P.MA. + La Comida Visuals
DESCRIPTION:Cicle de vdjs. Divendres 23 de gener a les 20.00h: P.MA. (Portugal) + La Comida Visuals (València)  \n  \n  \n\nPedro Maia va nàixer en 1983 a Vila do Conde (Portugal) i resideix actualment entre Porto i Lisboa. Es va llicenciar en Tecnologies de la Comuniació a l’Instituto Politécnico do Porto i va cursar estudis també a la Fundação Calouste Gulbenkian de Lisboa. Ha treballat en vídeo\, cinema i art multimèdia i també amb productes audiovisuals per a companyies de teatre. Durant nou anys\, a més\, va ser col·laborador del Festival Internacional de Cine de Vila do Conde. Des de l’any 2004 desenvolupa el concepte de “live cinema”\, la manipulació d’imatges en temps real i la seua interacció amb la música.  La Comida Visuals (València)\, a més d’haver inaugurat aquest cicle s0n1v1s10 el setembre de 2007\, han actuat en diverses sales de València i en clubs arreu del món\, com ara el Plastic de Milà\, Kama Kama o l’Atalante. A més\, tenen la residència de visuals en el club Blue Room  (Rialto S.Ambrogio) de Roma. Més informació al seu myspace.
URL:https://octubre.cat/activitat/p-ma-la-comida-visuals/
LOCATION:No definit
CATEGORIES:Cicle S0N1V1S10
ATTACH;FMTTYPE=image/jpeg:https://octubre.cat/www/wp-content/uploads/2020/07/activitat751.jpg
END:VEVENT
END:VCALENDAR