BEGIN:VCALENDAR
VERSION:2.0
PRODID:-//Octubre Centre de Cultura Contemporània - ECPv5.1.6//NONSGML v1.0//EN
CALSCALE:GREGORIAN
METHOD:PUBLISH
X-WR-CALNAME:Octubre Centre de Cultura Contemporània
X-ORIGINAL-URL:https://octubre.cat
X-WR-CALDESC:Events for Octubre Centre de Cultura Contemporània
BEGIN:VTIMEZONE
TZID:Europe/Andorra
BEGIN:DAYLIGHT
TZOFFSETFROM:+0100
TZOFFSETTO:+0200
TZNAME:CEST
DTSTART:20100328T010000
END:DAYLIGHT
BEGIN:STANDARD
TZOFFSETFROM:+0200
TZOFFSETTO:+0100
TZNAME:CET
DTSTART:20101031T010000
END:STANDARD
END:VTIMEZONE
BEGIN:VEVENT
DTSTART;TZID=Europe/Andorra:20100529T110000
DTEND;TZID=Europe/Andorra:20100529T110000
DTSTAMP:20260421T002522
CREATED:20200729T164923Z
LAST-MODIFIED:20200730T042458Z
UID:8841-1275130800-1275130800@octubre.cat
SUMMARY:P.D.t.R.F.a.D. Projeccions emotives\, d'Alicia Herrero
DESCRIPTION:Dissabte 29 de maig\, a partir de les 11.00h: “P.D.t.R.F.a.D. Projeccions emotives”\, d’Alicia Herrero. Treball d’investigació coreogràfica en una caixa de 140x200x120cm.   \n  \n  \n\nAlicia Herrero planteja un treball d’investigació coreogràfica centrat en l’espai d’una caixa de 140x200x120cm\, creada per l’artista Mª. Ángeles Vila\, amb el qual pretén trobar recursos corporals determinats per la limitació espacial\, amb la música del compositor Emanuele Flammini. El projecte s’insereix en el marc de Temes d’investigació coreogràfica\, programa pedagògic dissenyat per AVED (Associació Valenciana d’Empreses de Dansa)\, que té com a objectius apropar el treball de creadors en actiu als ballarins que busquen professionalitzar-se i permetre els creadors treballar amb ballarins disposats a experimentar.   Emergent creadora i consolidada intèrpret\, Alicia Herrero ha desenvolupat la seua trajectòria dins i fora de l’Estat espanyol. Titulada en dansa clàssica pel Conservatori Professional de València i diplomada en teatre i dansa contemporània pel London Studio Centre\, com a ballarina ha passat per destacades agrupacions\, com ara la Henri Oguike Dance Company\, el Ballet Nacional Noruec\, l’Òpera Nacional anglesa o Les Ballets de Montecarlo. Professora de dansa requerida en centres i escoles de casa i de l’estranger\, Alicia Herrero dirigeix la seua pròpia companyia\, Alicia Herrero Dance Company\, resident del Gran Teatre de Xàtiva des de 2006.   Els assistents tindran l’oportunitat d’experimentar el seu procés individual dins d’una caixa a l’Octubre entre les 11.00 i les 17.00h.
URL:https://octubre.cat/activitat/p-d-t-r-f-a-d-projeccions-emotives-dalicia-herrero/
LOCATION:No definit
CATEGORIES:Performance
ATTACH;FMTTYPE=image/jpeg:https://octubre.cat/www/wp-content/uploads/2020/07/activitat1190.jpg
END:VEVENT
END:VCALENDAR