BEGIN:VCALENDAR
VERSION:2.0
PRODID:-//Octubre Centre de Cultura Contemporània - ECPv5.1.6//NONSGML v1.0//EN
CALSCALE:GREGORIAN
METHOD:PUBLISH
X-WR-CALNAME:Octubre Centre de Cultura Contemporània
X-ORIGINAL-URL:https://octubre.cat
X-WR-CALDESC:Events for Octubre Centre de Cultura Contemporània
BEGIN:VTIMEZONE
TZID:Europe/Andorra
BEGIN:DAYLIGHT
TZOFFSETFROM:+0100
TZOFFSETTO:+0200
TZNAME:CEST
DTSTART:20150329T010000
END:DAYLIGHT
BEGIN:STANDARD
TZOFFSETFROM:+0200
TZOFFSETTO:+0100
TZNAME:CET
DTSTART:20151025T010000
END:STANDARD
END:VTIMEZONE
BEGIN:VEVENT
DTSTART;TZID=Europe/Andorra:20150617T190000
DTEND;TZID=Europe/Andorra:20150617T190000
DTSTAMP:20260422T001930
CREATED:20200729T171009Z
LAST-MODIFIED:20200730T041418Z
UID:10123-1434567600-1434567600@octubre.cat
SUMMARY:'Ovidi per Ovidi'\, de Jordi Lara i Ramon Millà
DESCRIPTION:Dimarts 7 d’abril a les 19.00h. Projecció presentada pels realitzadors. Estrena a València. Inclosa dins del cicle de Cinema Social.  \n  \n  \n\n Projecció presentada per Jordi Lara i Ramon Millà Estrena a València. Excepcionalment\, aquesta projecció es realitza en dimarts.  Ovidi per Ovidi dóna la veu directament al mateix Ovidi Montllor. Jordi Lara i Ramon Millà s’han capbussat als arxius de Televisió de Catalunya i la Fonoteca de Catalunya Ràdio\, on s’hi troben unes quatre hores d’entrevistes a l’artista\, i han seleccionat les declaracions de l’Ovidi que ens condueixen en primera persona pel seu pensament artístic i el seu itinerari vital. Són\, doncs\, les mateixes paraules de l’Ovidi\, completades visualment amb fotografies i retalls de premsa de l’arxiu personal del cantautor\, les que ens introdueixen a les tretze cançons o recitacions que l’artista alcoià va interpretar en diferents programes històrics de TVC i que també s’inclouen al documental.  El documental va ser estrenat el passat 10 de març (el mateix dia del 20é aniversari de la mort d’Ovidi Montllor) al Canal 33 de TVC. Les estrenes a sales de cinema seran el 7 d’abril a l’Octubre CCC\, el 8 d’abril a Alcoi i el 9 d’abril a la SGAE de Barcelona.  Guió: Jordi Lara (2015) Realització: Ramon Millà Producció: Fàtima Casaldàliga Càmera: Roser Turpin Muntatge: Òscar Ruperti Àudio: Àlex de Gregorio Coordinació de continguts: Lluís Cuevas Producció executiva: Laura Cuadrado Direcció executiva: Pilar Cugat  Entrada lliure Organitzat amb la col·laboració d’El Cine Social Coordinació del cicle: Antonio Lloréns  Més informació al nostre blog
URL:https://octubre.cat/activitat/ovidi-per-ovidi-de-jordi-lara-i-ramon-milla/
LOCATION:Sala d’actes
CATEGORIES:Segon cicle de cinema social
ATTACH;FMTTYPE=image/jpeg:https://octubre.cat/www/wp-content/uploads/2020/07/activitat2298.jpg
END:VEVENT
END:VCALENDAR