BEGIN:VCALENDAR
VERSION:2.0
PRODID:-//Octubre Centre de Cultura Contemporània - ECPv5.1.6//NONSGML v1.0//EN
CALSCALE:GREGORIAN
METHOD:PUBLISH
X-WR-CALNAME:Octubre Centre de Cultura Contemporània
X-ORIGINAL-URL:https://octubre.cat
X-WR-CALDESC:Events for Octubre Centre de Cultura Contemporània
BEGIN:VTIMEZONE
TZID:Europe/Andorra
BEGIN:DAYLIGHT
TZOFFSETFROM:+0100
TZOFFSETTO:+0200
TZNAME:CEST
DTSTART:20200329T010000
END:DAYLIGHT
BEGIN:STANDARD
TZOFFSETFROM:+0200
TZOFFSETTO:+0100
TZNAME:CET
DTSTART:20201025T010000
END:STANDARD
END:VTIMEZONE
BEGIN:VEVENT
DTSTART;TZID=Europe/Andorra:20201209T180000
DTEND;TZID=Europe/Andorra:20201209T180000
DTSTAMP:20260421T115841
CREATED:20200804T171006Z
LAST-MODIFIED:20201206T115319Z
UID:14246-1607536800-1607536800@octubre.cat
SUMMARY:Overseas\, de Sung-A Yoon
DESCRIPTION:Cicle “Acció Documental +” organitzat per ACICOM i ACPV. DocsBarcelona / El documental del mes. \nCol·loqui posterior amb María Carmen Jiménez (responsable de CCOO Treballadores de la Llar)\, Emelinda Tuazon (extreballadora de la llar) i Ángela Jurado (Associació Por ti Mujer).\n— \nUn impactant retrat de les dones filipines que es veuen obligades a marxar a l’estranger per guanyar-se la vida fent de mainaderes i treballadores de la llar. La mirada de la directora Sung-A Yoon\, barreja d’humor negre i denúncia social\, posa en evidència una forma encoberta d’esclavitud moderna. \nOverseas segueix l’etapa de formació d’un grup de dones que es preparen per afrontar una nova vida lluny de casa. La majoria dels contractes laborals\, les obliguen a passar anys sense poder veure ni als fills ni a la família. Durant la sessions de formació a l’escola\, les alumnes practiquen tant el paper d’empleada com el d’amo\, donant peu a situacions tan surrealistes com corprenedores. Aviat seran exportades a l’estranger com si fossin mercaderies i quedaran soles davant l’explotació laboral i agressions de tot tipus. Una història commovedora que mostra la determinació d’unes dones valentes\, que s’agermanen sense perdre el sentit de l’humor\, i que comparteixen estratègies per afrontar el futur amb fermesa. \n \nDirecció: Sung-A Yoon (2019)\nVO en tagal i anglès\, subtitulada en català\nDurada: 90’ \nPremi Amnistia Internacional de Catalunya · DocsBarcelona\, 2020\nPremi del Jurat al Millor Documental · Premiers Plans – Angers Film Festival France\, 2020\nLocarno Film Festival\, Suïssa\, 2019\nPremi a la Millor Direcció · Hamptons International Film Festival\, EUA\, 2019\nPremi del Jurat al Millor Documental · Warsaw Film Festival\, Polònia\, 2019 \n \nASSISTÈNCIA exclusivament prèvia inscripció a través d’aquest formulari (taquilla inversa)
URL:https://octubre.cat/activitat/overseas-de-sung-a-yoon/
LOCATION:Sala d’actes
CATEGORIES:Acció Documental +,Cinema
ATTACH;FMTTYPE=image/jpeg:https://octubre.cat/www/wp-content/uploads/2020/08/principal.jpg
END:VEVENT
END:VCALENDAR