BEGIN:VCALENDAR
VERSION:2.0
PRODID:-//Octubre Centre de Cultura Contemporània - ECPv5.1.6//NONSGML v1.0//EN
CALSCALE:GREGORIAN
METHOD:PUBLISH
X-WR-CALNAME:Octubre Centre de Cultura Contemporània
X-ORIGINAL-URL:https://octubre.cat
X-WR-CALDESC:Events for Octubre Centre de Cultura Contemporània
BEGIN:VTIMEZONE
TZID:Europe/Andorra
BEGIN:DAYLIGHT
TZOFFSETFROM:+0100
TZOFFSETTO:+0200
TZNAME:CEST
DTSTART:20100328T010000
END:DAYLIGHT
BEGIN:STANDARD
TZOFFSETFROM:+0200
TZOFFSETTO:+0100
TZNAME:CET
DTSTART:20101031T010000
END:STANDARD
END:VTIMEZONE
BEGIN:VEVENT
DTSTART;TZID=Europe/Andorra:20100205T223000
DTEND;TZID=Europe/Andorra:20100205T223000
DTSTAMP:20260421T081917
CREATED:20200729T164732Z
LAST-MODIFIED:20200729T182807Z
UID:8732-1265409000-1265409000@octubre.cat
SUMMARY:Oval
DESCRIPTION:Divendres 5 de febrer\, a les 22.30h: Projecció del curt “Oval”\, de Santiago Estruch (adaptació lliure del relat “El retrat ovalat”\, d’Edgar A. Poe).   \n  \n  \n\nOVAL  Producció i direcció: Santiago Estruch Post-producció: Triton media  Guió: Nacho Cagiga i Santiago Estruch (adaptació lliure del relat El retrat ovalat\, de E. A. Poe) Música: Carles Estruch Intèrprets: Ildefons Oltra\, Lola Moltó\, Nani Jiménez\, José Luis Hernández i Aureli Mansanet  Un representant de llibres es perd per una carretera secundària per culpa de la intensa boira. Finalment arriba a la pensió Marie Rogêt\, on conviurà amb uns personatges ben peculiars. L’hoste es troba amb una càmera de vídeo que conté estranyes gravacions de la parella d’inquilins que van ocupar la mateixa habitació que ara és la seua.
URL:https://octubre.cat/activitat/oval/
LOCATION:No definit
CATEGORIES:Cinema
ATTACH;FMTTYPE=image/jpeg:https://octubre.cat/www/wp-content/uploads/2020/07/activitat1078.jpg
END:VEVENT
END:VCALENDAR