BEGIN:VCALENDAR
VERSION:2.0
PRODID:-//Octubre Centre de Cultura Contemporània - ECPv5.1.6//NONSGML v1.0//EN
CALSCALE:GREGORIAN
METHOD:PUBLISH
X-WR-CALNAME:Octubre Centre de Cultura Contemporània
X-ORIGINAL-URL:https://octubre.cat
X-WR-CALDESC:Events for Octubre Centre de Cultura Contemporània
BEGIN:VTIMEZONE
TZID:Europe/Andorra
BEGIN:DAYLIGHT
TZOFFSETFROM:+0100
TZOFFSETTO:+0200
TZNAME:CEST
DTSTART:20150329T010000
END:DAYLIGHT
BEGIN:STANDARD
TZOFFSETFROM:+0200
TZOFFSETTO:+0100
TZNAME:CET
DTSTART:20151025T010000
END:STANDARD
END:VTIMEZONE
BEGIN:VEVENT
DTSTART;TZID=Europe/Andorra:20150618T190000
DTEND;TZID=Europe/Andorra:20150618T190000
DTSTAMP:20260421T165456
CREATED:20200729T171123Z
LAST-MODIFIED:20200730T041450Z
UID:10204-1434654000-1434654000@octubre.cat
SUMMARY:'Ouróboros\, la espiral de la pobreza'\, de Rafael Fuentes.
DESCRIPTION:Dijous 18 de juny a les 19.00h. Estrena del documental a València. Projecció i debat organitzat per CNT-València amb la col·laboració de l’Octubre CCC. Entrada lliure.  \n  \n  \n\n Estrena a València. Presentat per Julio Reyero\, encarregat de la investigació.  Documental on es tracta la qüestió de la caritat eclesiàstica i estatal i les conseqüències que aquesta té en la societat i en la perpetuació de la pobresa com a forma de mantenir la dominació de la classe privilegiada sobre la classe treballadora. En contraposició\, s’exposen les formes de solidaritat\, alternatives al model caritatiu\, que actualment s’estan desenvolupant des de la pròpia classe treballadora per a trencar amb aqueixa espiral de pobresa que només beneficia el sistema.  Direcció: Rafael Fuentes (2015) Investigació: Julio Reyero Banda sonora: Lozzane Producció: Grup Anarquista Albatros  Acte organitzat per CNT-València\, amb la col·laboració de l’Octubre CCC. Hi haurà debat posterior. Entrada lliure
URL:https://octubre.cat/activitat/ouroboros-la-espiral-de-la-pobreza-de-rafael-fuentes/
LOCATION:Sala d’actes
CATEGORIES:Cinema
ATTACH;FMTTYPE=image/jpeg:https://octubre.cat/www/wp-content/uploads/2020/07/activitat2340.jpg
END:VEVENT
END:VCALENDAR