BEGIN:VCALENDAR
VERSION:2.0
PRODID:-//Octubre Centre de Cultura Contemporània - ECPv5.1.6//NONSGML v1.0//EN
CALSCALE:GREGORIAN
METHOD:PUBLISH
X-WR-CALNAME:Octubre Centre de Cultura Contemporània
X-ORIGINAL-URL:https://octubre.cat
X-WR-CALDESC:Events for Octubre Centre de Cultura Contemporània
BEGIN:VTIMEZONE
TZID:Europe/Andorra
BEGIN:DAYLIGHT
TZOFFSETFROM:+0100
TZOFFSETTO:+0200
TZNAME:CEST
DTSTART:20100328T010000
END:DAYLIGHT
BEGIN:STANDARD
TZOFFSETFROM:+0200
TZOFFSETTO:+0100
TZNAME:CET
DTSTART:20101031T010000
END:STANDARD
END:VTIMEZONE
BEGIN:VEVENT
DTSTART;TZID=Europe/Andorra:20100918T190000
DTEND;TZID=Europe/Andorra:20100918T190000
DTSTAMP:20260420T165824
CREATED:20200729T165021Z
LAST-MODIFIED:20200730T042536Z
UID:8903-1284836400-1284836400@octubre.cat
SUMMARY:Òscar Briz i David Vidal
DESCRIPTION:Dissabte 18 de setembre\, a les 19.00h: Cicle Dialeg(tes). Òscar Briz i David Vidal.   \n  \n  \n\nEncetem la segona temporada del cicle Dialeg(tes) amb dues propostes de cançó d’autor mediterrània en clau acústica. Per una banda\, tindrem al menorquí David Vidal\, que presentarà a veu i guitarra el seu quart àlbum Ferida i conjur\, un recull de cançons que parlen de l’aroma de mar\, del saber del sabor\, del desig a la pell i a la memòria; de la desfeta\, de l’esquerda\, de la ferida que som i que\, com un conjur\, venim a encarnar. Per l’altra\, a Òscar Briz\, que estrenarà nou àlbum\, L’estiu\, un treball també acústic i amb vocació minimalista\, el sisè en la carrera d’aquest fecund cantautor de la Ribera\, construït sota la cadència de la seua guitarra i de delicats arranjaments vocals i instrumentals (un orgue suau\, percussions de reciclatge\, tocs de contrabaix…). Una delícia per a l’oïda\, en definitiva.  Aquesta actuació s’emmarca en les activitats mensuals de l’Espai Illes Balears de l’Octubre CCC.
URL:https://octubre.cat/activitat/oscar-briz-i-david-vidal/
LOCATION:No definit
CATEGORIES:Dialeg(tes)
ATTACH;FMTTYPE=image/jpeg:https://octubre.cat/www/wp-content/uploads/2020/07/activitat1238.jpg
END:VEVENT
END:VCALENDAR