BEGIN:VCALENDAR
VERSION:2.0
PRODID:-//Octubre Centre de Cultura Contemporània - ECPv5.1.6//NONSGML v1.0//EN
CALSCALE:GREGORIAN
METHOD:PUBLISH
X-WR-CALNAME:Octubre Centre de Cultura Contemporània
X-ORIGINAL-URL:https://octubre.cat
X-WR-CALDESC:Events for Octubre Centre de Cultura Contemporània
BEGIN:VTIMEZONE
TZID:Europe/Andorra
BEGIN:DAYLIGHT
TZOFFSETFROM:+0100
TZOFFSETTO:+0200
TZNAME:CEST
DTSTART:20100328T010000
END:DAYLIGHT
BEGIN:STANDARD
TZOFFSETFROM:+0200
TZOFFSETTO:+0100
TZNAME:CET
DTSTART:20101031T010000
END:STANDARD
END:VTIMEZONE
BEGIN:VEVENT
DTSTART;TZID=Europe/Andorra:20100416T200000
DTEND;TZID=Europe/Andorra:20100416T200000
DTSTAMP:20260420T165750
CREATED:20200729T164845Z
LAST-MODIFIED:20200729T182913Z
UID:8806-1271448000-1271448000@octubre.cat
SUMMARY:Ora Cogan
DESCRIPTION:Divendres 16 d’abril\, a les 20.00h: Ora Cogan (Canadà).   \n  \n  \n\nImagina que estàs entre els arbres d’una il·lusòria terra poblada per Jolie Holland o Josephine Foster i trobaràs amb gran facilitat la nostra heroïna. Enfundada en una camisa de quadres\, Ora Cogan exhuma les seues arrels i les llança al vol. perquè hi ha en ella alguna cosa que porta a la memòria els 40\, els 70\, els 90 i uns 2000 influenciats per qualsevol-temps-passat-fou-millor. En la febre del revival folk\, Cogan porta el millor de cada època.   Filla d’un cantant i d’una fotògrafa\, criada en una casa que era un estudi de gravació\, no és estrany que Ora començara a compondre cançons amb tan sols 12 anys. Potser això explique també per què la seua veu sona als vint i escaig\, com si haguera nascut fa mig segle. Aquesta jove canadenca té quelcom que recorda als anys quaranta\, un toc jazzie en la seua manera de cantar.   Harbouring\, primer disc de Cogan amb la projecció que mereix\, tot comença i acaba en una guitarra i una veu\, i quina veu! Però és justament aquesta senzillesa el que fa d’ella una artista encisadora. Un dels secrets millor guardats al nord dels Estats Units.
URL:https://octubre.cat/activitat/ora-cogan/
LOCATION:No definit
CATEGORIES:Cicle de música pop
ATTACH;FMTTYPE=image/jpeg:https://octubre.cat/www/wp-content/uploads/2020/07/activitat1155.jpg
END:VEVENT
END:VCALENDAR