BEGIN:VCALENDAR
VERSION:2.0
PRODID:-//Octubre Centre de Cultura Contemporània - ECPv5.1.6//NONSGML v1.0//EN
CALSCALE:GREGORIAN
METHOD:PUBLISH
X-WR-CALNAME:Octubre Centre de Cultura Contemporània
X-ORIGINAL-URL:https://octubre.cat
X-WR-CALDESC:Events for Octubre Centre de Cultura Contemporània
BEGIN:VTIMEZONE
TZID:Europe/Andorra
BEGIN:DAYLIGHT
TZOFFSETFROM:+0100
TZOFFSETTO:+0200
TZNAME:CEST
DTSTART:20090329T010000
END:DAYLIGHT
BEGIN:STANDARD
TZOFFSETFROM:+0200
TZOFFSETTO:+0100
TZNAME:CET
DTSTART:20091025T010000
END:STANDARD
END:VTIMEZONE
BEGIN:VEVENT
DTSTART;TZID=Europe/Andorra:20091005T193000
DTEND;TZID=Europe/Andorra:20091005T193000
DTSTAMP:20260420T181130
CREATED:20200729T182606Z
LAST-MODIFIED:20200729T182606Z
UID:12915-1254771000-1254771000@octubre.cat
SUMMARY:Òpera barroca - G. F. Haendel. Ariodante
DESCRIPTION:Dilluns 5 d’octubre\, a les 19.30h: Òpera barroca. G.F. Haendel. Ariodante. Primera sessió.   \n  \n  \n\nÒpera barroca – G. F. Haendel. Ariodante  Llibret adaptat d’A. Salvi: Ginevra\, principessa di Scozia\, basat en L. Ariosto: Orlando furioso.    Estrena: Londres 08/01/1725  Professor: Tono Berti\, director d’escena i professor d’interpretació.
URL:https://octubre.cat/activitat/opera-barroca-g-f-haendel-ariodante/
LOCATION:No definit
CATEGORIES:Parlem d’Òpera
ATTACH;FMTTYPE=image/jpeg:https://octubre.cat/www/wp-content/uploads/2020/07/activitat948.jpg
END:VEVENT
END:VCALENDAR