BEGIN:VCALENDAR
VERSION:2.0
PRODID:-//Octubre Centre de Cultura Contemporània - ECPv5.1.6//NONSGML v1.0//EN
CALSCALE:GREGORIAN
METHOD:PUBLISH
X-WR-CALNAME:Octubre Centre de Cultura Contemporània
X-ORIGINAL-URL:https://octubre.cat
X-WR-CALDESC:Events for Octubre Centre de Cultura Contemporània
BEGIN:VTIMEZONE
TZID:Europe/Andorra
BEGIN:DAYLIGHT
TZOFFSETFROM:+0100
TZOFFSETTO:+0200
TZNAME:CEST
DTSTART:20140330T010000
END:DAYLIGHT
BEGIN:STANDARD
TZOFFSETFROM:+0200
TZOFFSETTO:+0100
TZNAME:CET
DTSTART:20141026T010000
END:STANDARD
END:VTIMEZONE
BEGIN:VEVENT
DTSTART;TZID=Europe/Andorra:20140925T193000
DTEND;TZID=Europe/Andorra:20140926T000000
DTSTAMP:20260422T020038
CREATED:20200729T170618Z
LAST-MODIFIED:20200730T041213Z
UID:9872-1411673400-1411689600@octubre.cat
SUMMARY:'Oníria'\, per Desirée Belmonte
DESCRIPTION:Dijous 25 i divendres 26 a les 19.30h. Espectacle teatral de petit formar sobre el món dels somnis  \n  \n  \n\n “Fragmentos de un diario de sueños”  Un espectacle teatral de petit format basat en el món dels somnis\, que naix d’un interès pregon per compartir la importància que aquests tenen en l’univers humà. És una adaptació d’un treball d’investigació sobre com afecten els somnis en el nostre dia a dia\, el llenguatge que utilitzen\, les tècniques per recordar-los\, unit a una selecció de somnis diversos que formen part del diari personal de l’autora.  Durada: 40′ preu: 5€ (només taquilla) Parlada en castellà  Actriu i conferenciant: Desirée Belmonte Música en directe: Álvaro del Hierro Visuals: Chus Santos Il·luminació: Isaac Torres Text i direcció: Desirée Belmonte Equip creatiu: Maribel Bravo\, Cristina Correa\, Isaac Torres Fotos promo: Clara de Luna Photo Disseny gràfic: PalauGea
URL:https://octubre.cat/activitat/oniria-per-desiree-belmonte/
CATEGORIES:Teatre
ATTACH;FMTTYPE=image/jpeg:https://octubre.cat/www/wp-content/uploads/2020/07/activitat2131.jpg
END:VEVENT
END:VCALENDAR