BEGIN:VCALENDAR
VERSION:2.0
PRODID:-//Octubre Centre de Cultura Contemporània - ECPv5.1.6//NONSGML v1.0//EN
CALSCALE:GREGORIAN
METHOD:PUBLISH
X-WR-CALNAME:Octubre Centre de Cultura Contemporània
X-ORIGINAL-URL:https://octubre.cat
X-WR-CALDESC:Events for Octubre Centre de Cultura Contemporània
BEGIN:VTIMEZONE
TZID:Europe/Andorra
BEGIN:DAYLIGHT
TZOFFSETFROM:+0100
TZOFFSETTO:+0200
TZNAME:CEST
DTSTART:20110327T010000
END:DAYLIGHT
BEGIN:STANDARD
TZOFFSETFROM:+0200
TZOFFSETTO:+0100
TZNAME:CET
DTSTART:20111030T010000
END:STANDARD
END:VTIMEZONE
BEGIN:VEVENT
DTSTART;TZID=Europe/Andorra:20110204T193000
DTEND;TZID=Europe/Andorra:20110204T193000
DTSTAMP:20260420T232706
CREATED:20200729T165422Z
LAST-MODIFIED:20200730T042729Z
UID:9164-1296847800-1296847800@octubre.cat
SUMMARY:Onatge
DESCRIPTION:Divendres 4 de febrer\, a les 19.30h: “Onatge”\, una obra a càrrec de la companyia Disperses.   \n  \n  \n\nOnatge és una obra que combina la dramatització teatral amb la dansa i el cant\, a càrrec de la companyia Disperses.  Com els peixos\, que dormen a mitges i deixen la meitat de seu cervell en alerta\, quatre dones insomnes s’ajunten davant la mar i parlen. Porten encara els llençols marcats a la pell i fan l’olor reclosa dels somnis. Conten històries de dones que han viscut i han lluitat. Conten també la seua pròpia història. Desgranen fets i misèries. Pors i plors. Riures i viures. Caminen\, amb cor i veu\, a la vora d’un penya-segat\, amb peus nus\, lluna plena i roques feridores. En la nit insomne\, reprèn l’onatge (el moviment de les ones\, anant i venint\, per efecte del vent) i les veus de les cinc escriptores mallorquines\, Neus Canyelles\, Xesca Ensenyat\, Mariona Moyano i Duran\, Carme Riera i Antònia Vicens\, s’entrecreuen com una sola xarxa\, nuant contes i paraules\, il·luminant amb cruesa i lírica la fondària de la nit.
URL:https://octubre.cat/activitat/onatge/
LOCATION:No definit
CATEGORIES:Espai Illes Balears
ATTACH;FMTTYPE=image/jpeg:https://octubre.cat/www/wp-content/uploads/2020/07/activitat1388.jpg
END:VEVENT
END:VCALENDAR