BEGIN:VCALENDAR
VERSION:2.0
PRODID:-//Octubre Centre de Cultura Contemporània - ECPv5.1.6//NONSGML v1.0//EN
CALSCALE:GREGORIAN
METHOD:PUBLISH
X-WR-CALNAME:Octubre Centre de Cultura Contemporània
X-ORIGINAL-URL:https://octubre.cat
X-WR-CALDESC:Events for Octubre Centre de Cultura Contemporània
BEGIN:VTIMEZONE
TZID:Europe/Andorra
BEGIN:DAYLIGHT
TZOFFSETFROM:+0100
TZOFFSETTO:+0200
TZNAME:CEST
DTSTART:20080330T010000
END:DAYLIGHT
BEGIN:STANDARD
TZOFFSETFROM:+0200
TZOFFSETTO:+0100
TZNAME:CET
DTSTART:20081026T010000
END:STANDARD
END:VTIMEZONE
BEGIN:VEVENT
DTSTART;TZID=Europe/Andorra:20080103T193000
DTEND;TZID=Europe/Andorra:20080103T193000
DTSTAMP:20260420T170037
CREATED:20200729T181647Z
LAST-MODIFIED:20200730T035559Z
UID:12451-1199388600-1199388600@octubre.cat
SUMMARY:On brama la tonyina
DESCRIPTION:Dimecres 3\, 19.30h. La tonyina roja d’almadrava de Barbate (Cadis) és una exquisidesa reservada a les taules més exclussives del planeta. Els japonesos paguen autèntiques fortunes per aquestos exemplars pescats amb una tècnica (l’almadrava) heretada dels fenicis. Fins ací curiós…però més curiós encara és que els capitans d’almadrava\, els millors especialistes en aquesta tècnica provenen des de fa tres segles de Benidorm. On brama la tonyina fa un seguiment d’un dels capitans\, Vicent Zaragoza. Amb imatges espectaculars de la captura de les tonyines (l’or roig).  \n  \n  \n\nProjecció d’On brama la tonyina\, de Pep Milán i Pablo González.  La tonyina roja d’almadrava de Barbate (Cadis) és una exquisidesa reservada a les taules més exclussives del planeta. Els japonesos paguen autèntiques fortunes per aquestos exemplars pescats amb una tècnica (l’almadrava) heretada dels fenicis. Fins ací curiós…però més curiós encara és que els capitans d’almadrava\, els millors especialistes en aquesta tècnica provenen des de fa tres segles de Benidorm. On brama la tonyina fa un seguiment d’un dels capitans\, Vicent Zaragoza. Amb imatges espectaculars de la captura de les tonyines (l’or roig).  Entrada lliure
URL:https://octubre.cat/activitat/on-brama-la-tonyina/
LOCATION:No definit
CATEGORIES:Cicle de Documentals
ATTACH;FMTTYPE=image/jpeg:https://octubre.cat/www/wp-content/uploads/2020/07/cinema1.jpg
END:VEVENT
END:VCALENDAR