BEGIN:VCALENDAR
VERSION:2.0
PRODID:-//Octubre Centre de Cultura Contemporània - ECPv5.1.6//NONSGML v1.0//EN
CALSCALE:GREGORIAN
METHOD:PUBLISH
X-WR-CALNAME:Octubre Centre de Cultura Contemporània
X-ORIGINAL-URL:https://octubre.cat
X-WR-CALDESC:Events for Octubre Centre de Cultura Contemporània
BEGIN:VTIMEZONE
TZID:Europe/Andorra
BEGIN:DAYLIGHT
TZOFFSETFROM:+0100
TZOFFSETTO:+0200
TZNAME:CEST
DTSTART:20130331T010000
END:DAYLIGHT
BEGIN:STANDARD
TZOFFSETFROM:+0200
TZOFFSETTO:+0100
TZNAME:CET
DTSTART:20131027T010000
END:STANDARD
END:VTIMEZONE
BEGIN:VEVENT
DTSTART;TZID=Europe/Andorra:20130514T000000
DTEND;TZID=Europe/Andorra:20130615T000000
DTSTAMP:20260421T193504
CREATED:20200729T170044Z
LAST-MODIFIED:20200830T163751Z
UID:9543-1368489600-1371254400@octubre.cat
SUMMARY:Oliveres mil·lenàries\, d'Arturo Esteve
DESCRIPTION:Inauguració: dimarts 14 de maig a les 19.30h\, amb Ramon Mampel\, secretari general de la Unió de Llauradors i Ramaders. \nAra que es parla tant de la importància que té l’agricultura per a recuperar-nos d’aquesta crisi\, com una activitat de futur\, com un complement de la renda… us presentem el treball d’unes persones que han volgut mantenir un patrimoni agrari de valor: les oliveres monumentals. Són arbres d’unes mides que des de la ciutat se’ns fa difícil de comprendre. Més de 5.000 exemplars es poden veure en bancals ben treballats\, que segueixen produint un oli extra verge de gran qualitat\, de varietats que ens identifiquen (Fargues\, Regues\, Canetera…) empeltats damunt d’ullastre. Tot un luxe de saviesa. Depèn de tots que aquests arbres es queden en el nostre territori. \nEn l’exposició volem lligar les imatges amb les persones que les estan conservant\, amb el producte. Per aixo farem dos tasts d’oli mil·lenari produït només per aqueixes oliveres i\, quan les imatges tornen cap al seu lloc d’origen nosaltres us proposem acompanyar-les fent una visita guiada i un dinar de germanor a la cooperativa de Clot d’en Simó (Xert\, el Baix Maestrat). La visita al Maestrat es realitzarà el dissabte 22 de juny: més informació en el Club de Viatges d’ACPV. \nLes oliveres de l’exposició estan localitzades a diverses poblacions del Baix Maestrat. \nExposició organitzada per l’Octubre CCC amb la col·laboració de l’Associació Amics de l’Olivera
URL:https://octubre.cat/activitat/oliveres-millenaries/
LOCATION:Sala d’exposicions
CATEGORIES:Exposicions
ATTACH;FMTTYPE=image/jpeg:https://octubre.cat/www/wp-content/uploads/2020/07/activitat1799.jpg
END:VEVENT
END:VCALENDAR