BEGIN:VCALENDAR
VERSION:2.0
PRODID:-//Octubre Centre de Cultura Contemporània - ECPv5.1.6//NONSGML v1.0//EN
CALSCALE:GREGORIAN
METHOD:PUBLISH
X-WR-CALNAME:Octubre Centre de Cultura Contemporània
X-ORIGINAL-URL:https://octubre.cat
X-WR-CALDESC:Events for Octubre Centre de Cultura Contemporània
BEGIN:VTIMEZONE
TZID:Europe/Andorra
BEGIN:DAYLIGHT
TZOFFSETFROM:+0100
TZOFFSETTO:+0200
TZNAME:CEST
DTSTART:20080330T010000
END:DAYLIGHT
BEGIN:STANDARD
TZOFFSETFROM:+0200
TZOFFSETTO:+0100
TZNAME:CET
DTSTART:20081026T010000
END:STANDARD
END:VTIMEZONE
BEGIN:VEVENT
DTSTART;TZID=Europe/Andorra:20081218T200000
DTEND;TZID=Europe/Andorra:20081218T200000
DTSTAMP:20260421T022428
CREATED:20200729T182025Z
LAST-MODIFIED:20200730T035835Z
UID:12665-1229630400-1229630400@octubre.cat
SUMMARY:Oliva Trencada + Amanida Peiot
DESCRIPTION:Dijous 18 de desembre a les 20.00h: Oliva Trencada + Amanida Peiot (atenció: aquest concert ha canviat d’horari)  \n  \n  \n\nOliva Trencada: música mallorquina / Palma de Mallorca Amanita Peiot: pop en acció / la Valldigna  ATENCIÓ CANVI D’HORARI: aquest concert del cicle “Notes al peu” se celebrarà a les 20.00h\, com la resta del cicle  Per una banda tenim a Oliva Trencada que conjuga la música tradicional mallorquina amb elements del folk-pop anglosaxó. El resultat és una nova sonoritat: la mallorquina (nom equivalent al nou folk ianqui\, la americana). Una música agradable i dolça per l’oient\, amb un missatge que no deixa indiferent al qui l’escolta. Els seus integrants han tocat en bandes de certa trajectòria com els Satellites\, Diablo en el Ojo o Sexy Sadie. A l’Octubre actuaran per primer cop a València.  I per l’altra banda tenim a Amanida Peiot\, un projecte de pop obert\, radicat a les faldes de la Muntanya de les 3 Creus a Tavernes de la Valldigna. Actualment estan presentant el seu primer treball discogràfic amb el títol genèric d’”Amanida Peiot 1″. I a l’Octubre representaran la seua vessant més de cançó\, amb una formació de duet multiinstrumental (acordió\, saxofon\, guitarra\, ukelele\, percussions\, sàmplers i joguines) sense por a l’experimentació escènica.
URL:https://octubre.cat/activitat/oliva-trencada-amanida-peiot/
LOCATION:No definit
CATEGORIES:Cicle de música pop
ATTACH;FMTTYPE=image/jpeg:https://octubre.cat/www/wp-content/uploads/2020/07/activitat675.jpg
END:VEVENT
END:VCALENDAR