BEGIN:VCALENDAR
VERSION:2.0
PRODID:-//Octubre Centre de Cultura Contemporània - ECPv5.1.6//NONSGML v1.0//EN
CALSCALE:GREGORIAN
METHOD:PUBLISH
X-WR-CALNAME:Octubre Centre de Cultura Contemporània
X-ORIGINAL-URL:https://octubre.cat
X-WR-CALDESC:Events for Octubre Centre de Cultura Contemporània
BEGIN:VTIMEZONE
TZID:Europe/Andorra
BEGIN:DAYLIGHT
TZOFFSETFROM:+0100
TZOFFSETTO:+0200
TZNAME:CEST
DTSTART:20080330T010000
END:DAYLIGHT
BEGIN:STANDARD
TZOFFSETFROM:+0200
TZOFFSETTO:+0100
TZNAME:CET
DTSTART:20081026T010000
END:STANDARD
END:VTIMEZONE
BEGIN:VEVENT
DTSTART;TZID=Europe/Andorra:20080314T200000
DTEND;TZID=Europe/Andorra:20080314T200000
DTSTAMP:20260420T235536
CREATED:20200729T181748Z
LAST-MODIFIED:20200730T035644Z
UID:12509-1205524800-1205524800@octubre.cat
SUMMARY:Ojo de Pollo Vj - A. Pollo (València)
DESCRIPTION:Ojo de Pollo Vj formà part del col·lectiu LIO entre el 1999 i el 2001\, encara que no va ser fins 2003 quan començar a expressar-se artísticament amb el llenguatge de la vídeocreació\, acompanyat per Punto aka Korea Vj. Així\, plegats formarn A_Pollo\, plataforma visual amb la que van fer residències a Barraca\, El Loco Mateo\, Mogambo…Més tard\, Migue (la persona que hi ha al darrere d’Ojo de Pollo) passa a formar part de Wash & Go\, projecte audiovisual en el qual exercia de videojockey i frontman. També ha experimentat amb la videodança a Barcelona en un projecte anomenat travestisme audiovisual.
URL:https://octubre.cat/activitat/ojo-de-pollo-vj-a-pollo-valencia/
LOCATION:No definit
CATEGORIES:Cicle S0N1V1S10
ATTACH;FMTTYPE=image/jpeg:https://octubre.cat/www/wp-content/uploads/2020/07/artvisual1.jpg
END:VEVENT
END:VCALENDAR