BEGIN:VCALENDAR
VERSION:2.0
PRODID:-//Octubre Centre de Cultura Contemporània - ECPv5.1.6//NONSGML v1.0//EN
CALSCALE:GREGORIAN
METHOD:PUBLISH
X-WR-CALNAME:Octubre Centre de Cultura Contemporània
X-ORIGINAL-URL:https://octubre.cat
X-WR-CALDESC:Events for Octubre Centre de Cultura Contemporània
BEGIN:VTIMEZONE
TZID:Europe/Andorra
BEGIN:DAYLIGHT
TZOFFSETFROM:+0100
TZOFFSETTO:+0200
TZNAME:CEST
DTSTART:20110327T010000
END:DAYLIGHT
BEGIN:STANDARD
TZOFFSETFROM:+0200
TZOFFSETTO:+0100
TZNAME:CET
DTSTART:20111030T010000
END:STANDARD
END:VTIMEZONE
BEGIN:VEVENT
DTSTART;TZID=Europe/Andorra:20110610T190000
DTEND;TZID=Europe/Andorra:20110610T190000
DTSTAMP:20260424T092257
CREATED:20200729T165551Z
LAST-MODIFIED:20200730T042838Z
UID:9254-1307732400-1307732400@octubre.cat
SUMMARY:Oceans
DESCRIPTION:Divendres 10 de juny a les 19.00h: Formació Oberta de Greenpeace-Valencia. “Oceans”\, a càrrec de Josevi Cassany  \n  \n  \n\nFormació Oberta de Greenpeace-València. “Oceans”\, a càrrec de Josevi Cassany
URL:https://octubre.cat/activitat/oceans/
LOCATION:No definit
CATEGORIES:Conferències i congressos
ATTACH;FMTTYPE=image/jpeg:https://octubre.cat/www/wp-content/uploads/2020/07/conferencia1.jpg
END:VEVENT
END:VCALENDAR