BEGIN:VCALENDAR
VERSION:2.0
PRODID:-//Octubre Centre de Cultura Contemporània - ECPv5.1.6//NONSGML v1.0//EN
CALSCALE:GREGORIAN
METHOD:PUBLISH
X-WR-CALNAME:Octubre Centre de Cultura Contemporània
X-ORIGINAL-URL:https://octubre.cat
X-WR-CALDESC:Events for Octubre Centre de Cultura Contemporània
BEGIN:VTIMEZONE
TZID:Europe/Andorra
BEGIN:DAYLIGHT
TZOFFSETFROM:+0100
TZOFFSETTO:+0200
TZNAME:CEST
DTSTART:20070325T010000
END:DAYLIGHT
BEGIN:STANDARD
TZOFFSETFROM:+0200
TZOFFSETTO:+0100
TZNAME:CET
DTSTART:20071028T010000
END:STANDARD
END:VTIMEZONE
BEGIN:VEVENT
DTSTART;TZID=Europe/Andorra:20071112T080000
DTEND;TZID=Europe/Andorra:20071115T170000
DTSTAMP:20260420T231627
CREATED:20251226T181943Z
LAST-MODIFIED:20251226T181943Z
UID:24306-1194854400-1195146000@octubre.cat
SUMMARY:Observatori Climàtic
DESCRIPTION:Dilluns 12 de novembre \n–Presentació de l’Observatori Climàtic i del llibre X un bon clima.\nA càrrec de Jordi Bigues\, periodista i coordinador de l’Observatori Ambiental. \n–Conferència “Canvi climàtic i canvi global”\, a càrrec de Ricardo Almenar\, doctor en biologia\, consultor ambiental i expert en desenvolupament sostenible. \n  \nDimarts 13 de novembre \n–Presentació i lliurament de l’edició dels informes del IV Informe d’avaluació del Grup Intergovernamental d’Experts Sobre Canvi Climàtic de les Nacions Unides. A càrrec de Miquel Muñoz i Josep Enric Llebot amb la participació de Ramon Arribas\, director del Consell Assessor per al Desenvolupament Sostenible de la Generalitat de Catalunya. \n–Conversa “Justícia climàtica: protegir els vulnerables” a càrrec de Miquel Ortega (Campanya “Qui deu a qui”) i Laura Iruretagioyena (Intermón Oxfam) \n  \nDimecres 14 de novembre \n–Reunió tècnica d’emissions equivalents\nEstabliment d’un quadre sintètic destinat a poder calcular i reduir les emissions de diòxid de carboni. \n–Conferència “Com comuniquem el canvi climàtic?”\nA càrrec de Joan Carles Fortea\, (Meteoròleg Radiotelevisió Valenciana)\, Josep Garriga (Oficina Catalana del Canvi Climàtic)\, Oriol Lladó (Sostenible.es) i Maria Josep Picó (Directora de Nat). \n  \nDijous 15 de novembre \n–“Què podem fer\, què estem fent?”\nA càrrec de Mar Asunción\, portaveu de Moviment Clima\, Raquel Montón\, responsable de canvi climàtic de Greenpeace\, Alexandra Hemingway\, presidenta d’Amics de la Terra\, Josep Joan Sanchis\, Comissió d’Energia d’Acció Ecologista Agró i Carlos Arribas d’Ecologistes en Acció.
URL:https://octubre.cat/activitat/observatori-climatic/
LOCATION:No definit
CATEGORIES:Observatori climàtic
ATTACH;FMTTYPE=image/jpeg:https://octubre.cat/www/wp-content/uploads/2020/07/conferencia1.jpg
END:VEVENT
END:VCALENDAR