BEGIN:VCALENDAR
VERSION:2.0
PRODID:-//Octubre Centre de Cultura Contemporània - ECPv5.1.6//NONSGML v1.0//EN
CALSCALE:GREGORIAN
METHOD:PUBLISH
X-WR-CALNAME:Octubre Centre de Cultura Contemporània
X-ORIGINAL-URL:https://octubre.cat
X-WR-CALDESC:Events for Octubre Centre de Cultura Contemporània
BEGIN:VTIMEZONE
TZID:Europe/Andorra
BEGIN:DAYLIGHT
TZOFFSETFROM:+0100
TZOFFSETTO:+0200
TZNAME:CEST
DTSTART:20160327T010000
END:DAYLIGHT
BEGIN:STANDARD
TZOFFSETFROM:+0200
TZOFFSETTO:+0100
TZNAME:CET
DTSTART:20161030T010000
END:STANDARD
END:VTIMEZONE
BEGIN:VEVENT
DTSTART;TZID=Europe/Andorra:20160331T203000
DTEND;TZID=Europe/Andorra:20160331T203000
DTSTAMP:20260421T165027
CREATED:20200729T171742Z
LAST-MODIFIED:20200729T185446Z
UID:10604-1459456200-1459456200@octubre.cat
SUMMARY:Observació de l'Estació Espacial Internacional
DESCRIPTION:Dijous 31 de març a les 20.30h. Xerrada sobre la vida dels astronautes a l’espai i posterior observació des del terrat del pas de l’Estació Espacial Internacional. Oganitzat amb la col·laboració d’AstronomiaQuart.  \n  \n  \n\n Observació astronòmica des del terrat de l’Octubre CCC. Observació de l’Estació Espacial Internacional.  Has vist alguna vegada l’Estació Espacial Internacional? Vols saber com identificar-la? Vols veure en temps real què veuen els astronautes?  Mentre esperem que arriben al cel de València (eixa nit serà a les 21.30h)\, veurem vídeos de com van\, com viuen i com tornen.  I si els núvols ens deixen\, també farem una ullada a Júpiter amb telescopi.  Activitat organitzada per AstronomiaQuart. Salut i bon cel !
URL:https://octubre.cat/activitat/observacio-de-lestacio-espacial-internacional/
LOCATION:Sala d’actes
CATEGORIES:Conferències i congressos
ATTACH;FMTTYPE=image/jpeg:https://octubre.cat/www/wp-content/uploads/2020/07/activitat2551.jpg
END:VEVENT
END:VCALENDAR