BEGIN:VCALENDAR
VERSION:2.0
PRODID:-//Octubre Centre de Cultura Contemporània - ECPv5.1.6//NONSGML v1.0//EN
CALSCALE:GREGORIAN
METHOD:PUBLISH
X-WR-CALNAME:Octubre Centre de Cultura Contemporània
X-ORIGINAL-URL:https://octubre.cat
X-WR-CALDESC:Events for Octubre Centre de Cultura Contemporània
BEGIN:VTIMEZONE
TZID:Europe/Andorra
BEGIN:DAYLIGHT
TZOFFSETFROM:+0100
TZOFFSETTO:+0200
TZNAME:CEST
DTSTART:20180325T010000
END:DAYLIGHT
BEGIN:STANDARD
TZOFFSETFROM:+0200
TZOFFSETTO:+0100
TZNAME:CET
DTSTART:20181028T010000
END:STANDARD
END:VTIMEZONE
BEGIN:VEVENT
DTSTART;TZID=Europe/Andorra:20180910T000000
DTEND;TZID=Europe/Andorra:20180922T000000
DTSTAMP:20260421T191526
CREATED:20200729T173102Z
LAST-MODIFIED:20200729T190907Z
UID:11244-1536537600-1537574400@octubre.cat
SUMMARY:Obre’t al valencià!
DESCRIPTION:Del 10 al 22 de setembre de 2018. Inauguració: dilluns 10 de setembre a les 19.00h. Organitzada per la Plataforma per la Llengua / País Valencià amb la col·laboració de l’Octubre CCC.	 \n  \n  \n\n 	 Inauguració: dilluns 10 de setembre a les 19.00h.  En quina llengua habitual creus que els suecs\, els suïssos alemanys o els danesos es relacionen en els seus països davant els nouvinguts? L’habit de canviar la llengua amb les persones d’origen estranger\, tot i ser molt comú entre els valencianoparlants\, és molt excepcional en altres comunitats comparables d’estats democràtics. Es tracta d’una conducta que impedeix a aquestes persones l’accés a la nostra comunitat lingüística\, i en molts casos les condemna a portar l’etiqueta d’immigrants. En aquesta exposició volem mostrar l’oportunitat que ens ofereix la nova immigració per tal d’abandonar actituds acomplexades i pròpies d’un context de repressió\, i adoptar formes més inclusives i obertes per relacionar-nos\, sense renunciar al valencià.  Exposició organitzada per la Plataforma per la Llengua / País Valencià amb la col·laboració de l’Octubre CCC.  — Entrada lliure. Horari de visites -De dilluns a divendres: de 9h a 21h -Dissabtes matí: de 10h a 14h -Dissabtes vesprada\, diumenges i festius tot el dia: tancat
URL:https://octubre.cat/activitat/obret-al-valencia/
LOCATION:Hall
CATEGORIES:Exposicions
ATTACH;FMTTYPE=image/jpeg:https://octubre.cat/www/wp-content/uploads/2020/07/activitat3086.jpg
END:VEVENT
END:VCALENDAR