BEGIN:VCALENDAR
VERSION:2.0
PRODID:-//Octubre Centre de Cultura Contemporània - ECPv5.1.6//NONSGML v1.0//EN
CALSCALE:GREGORIAN
METHOD:PUBLISH
X-WR-CALNAME:Octubre Centre de Cultura Contemporània
X-ORIGINAL-URL:https://octubre.cat
X-WR-CALDESC:Events for Octubre Centre de Cultura Contemporània
BEGIN:VTIMEZONE
TZID:Europe/Andorra
BEGIN:DAYLIGHT
TZOFFSETFROM:+0100
TZOFFSETTO:+0200
TZNAME:CEST
DTSTART:20160327T010000
END:DAYLIGHT
BEGIN:STANDARD
TZOFFSETFROM:+0200
TZOFFSETTO:+0100
TZNAME:CET
DTSTART:20161030T010000
END:STANDARD
END:VTIMEZONE
BEGIN:VEVENT
DTSTART;TZID=Europe/Andorra:20160408T200000
DTEND;TZID=Europe/Andorra:20160408T200000
DTSTAMP:20260421T185844
CREATED:20200729T171721Z
LAST-MODIFIED:20200729T185437Z
UID:10583-1460145600-1460145600@octubre.cat
SUMMARY:Obeses
DESCRIPTION:Divendres 8 d’abril a les 20.00h. Espai Octubre Concerts. Entrades a 5 i 7 euros.  \n  \n  \n\n Obeses\, grup de pop-rock\, es va formar el 2010 a Tona (Osona).  Va llançar el seu primer disc\, Obesisme Il·lustrat\, el 2011\, i posteriorment Zel\, el 2013. El 2015 es va publicar el seu tercer treball\, Monstres i Princeses\, treball que acaba de guanyar el premi Disc Català de l’Any atorgat per Ràdio 4. Són ben coneguts també pels treballs “El meu poble i jo”\, musicació del poema homònim de Salvador Espriu (2013) i per la versió de  “Rosó (pel teu amor)” sobre el clàssic de la cançó popular catalana per al CD de la Marató de TV3 (2014).  Obeses són Arnau Tordera (veu i guitarra)\, Maiol Montané (bateria)\, Aranu Burdó “Burdi” (teclats) i Jaume Coll (baix).  “Obeses són un dels grups més originals\, ambiciosos i bons que hi ha al nostre país. Tenen molt poc a veure amb el que fan els altres. Feu-me cas i escolteu-los. No m’equivoco” (Empar Moliner al diari Ara)  Entrades: Anticipada a notikumi.com: 5 € Taquilla: 7 €  — Espai Octubre Concerts és una iniciativa de l’Octubre CCC gestionada per les productores musicals Metrònom\, Play Producciones\,  Mésdemil i LaCasaCalba.org.  (imatge: Eduard Morató / El Punt Avui)
URL:https://octubre.cat/activitat/obeses/
CATEGORIES:Espai Octubre Concerts
ATTACH;FMTTYPE=image/jpeg:https://octubre.cat/www/wp-content/uploads/2020/07/activitat2540.jpg
END:VEVENT
END:VCALENDAR