BEGIN:VCALENDAR
VERSION:2.0
PRODID:-//Octubre Centre de Cultura Contemporània - ECPv5.1.6//NONSGML v1.0//EN
CALSCALE:GREGORIAN
METHOD:PUBLISH
X-WR-CALNAME:Octubre Centre de Cultura Contemporània
X-ORIGINAL-URL:https://octubre.cat
X-WR-CALDESC:Events for Octubre Centre de Cultura Contemporània
BEGIN:VTIMEZONE
TZID:Europe/Andorra
BEGIN:DAYLIGHT
TZOFFSETFROM:+0100
TZOFFSETTO:+0200
TZNAME:CEST
DTSTART:20240331T010000
END:DAYLIGHT
BEGIN:STANDARD
TZOFFSETFROM:+0200
TZOFFSETTO:+0100
TZNAME:CET
DTSTART:20241027T010000
END:STANDARD
END:VTIMEZONE
BEGIN:VEVENT
DTSTART;TZID=Europe/Andorra:20240304T193000
DTEND;TZID=Europe/Andorra:20240304T193000
DTSTAMP:20260420T120020
CREATED:20240208T092553Z
LAST-MODIFIED:20240225T093734Z
UID:20914-1709580600-1709580600@octubre.cat
SUMMARY:NVCLI - Sessió terapèutica #4
DESCRIPTION:(projecció Too Cool Video Games)\nErik Vivaldi & Pata-NO\nNegro\nMinim
URL:https://octubre.cat/activitat/nvcli-sessio-terapeutica-4/
LOCATION:Sala d’actes
CATEGORIES:NVCLI
ATTACH;FMTTYPE=image/jpeg:https://octubre.cat/www/wp-content/uploads/2024/02/nvcli-marc-2024.jpg
END:VEVENT
END:VCALENDAR