BEGIN:VCALENDAR
VERSION:2.0
PRODID:-//Octubre Centre de Cultura Contemporània - ECPv5.1.6//NONSGML v1.0//EN
CALSCALE:GREGORIAN
METHOD:PUBLISH
X-WR-CALNAME:Octubre Centre de Cultura Contemporània
X-ORIGINAL-URL:https://octubre.cat
X-WR-CALDESC:Events for Octubre Centre de Cultura Contemporània
BEGIN:VTIMEZONE
TZID:Europe/Andorra
BEGIN:DAYLIGHT
TZOFFSETFROM:+0100
TZOFFSETTO:+0200
TZNAME:CEST
DTSTART:20250330T010000
END:DAYLIGHT
BEGIN:STANDARD
TZOFFSETFROM:+0200
TZOFFSETTO:+0100
TZNAME:CET
DTSTART:20251026T010000
END:STANDARD
END:VTIMEZONE
BEGIN:VEVENT
DTSTART;TZID=Europe/Andorra:20251001T190000
DTEND;TZID=Europe/Andorra:20251001T190000
DTSTAMP:20260420T120644
CREATED:20250922T094948Z
LAST-MODIFIED:20250922T094948Z
UID:23681-1759345200-1759345200@octubre.cat
SUMMARY:NVCLI - Sessió Terapèutica #19
DESCRIPTION:ANNO SOLAR \nUna banda de València que treballa des de la improvisació\, explorant la convergència entre ordre\, desordre i repetició. Música que indueix un viatge hipnòtic mitjançant un paisatge sonor tan dens com envoltant i que convida a la contemplació i a la catarsi. \n……………… \nLOS SARA FONTÁN \nA l’antiga Grècia\, la música instrumental infonia temor per la seua capacitat d’empènyer l’oient a vols sense fre ni control de la fantasia. Enganxats a aquesta Màxima\, Los Sara Fontán decideixen explorar allò irracional\, no fer servir la paraula i trencar amb les formes clàssiques de producció i reproducció. \nEl violí clàssic i contemporani de Sara Fontán sumat a l’energia polirítmica d’Edi Pou conformen Los Sara Fontan. Han desenvolupat una part de la seua carrera artística sense gravar discos\, per militància\, fugint de les rutines productives de la indústria. El seu terreny és el directe\, sempre físic\, apassionat\, punk\, sempre canviant i permeable a l’entorn. \nLa seua música és de codi obert. El prolífic duo compon amb altres artistes i recompon les seues creacions per obrir-les a pràctiques col·lectives i interdisciplinàries.
URL:https://octubre.cat/activitat/nvcli-sessio-terapeutica-19/
LOCATION:Sala d’actes
CATEGORIES:NVCLI
ATTACH;FMTTYPE=image/jpeg:https://octubre.cat/www/wp-content/uploads/2025/09/nvcli-19.jpg
END:VEVENT
END:VCALENDAR