BEGIN:VCALENDAR
VERSION:2.0
PRODID:-//Octubre Centre de Cultura Contemporània - ECPv5.1.6//NONSGML v1.0//EN
CALSCALE:GREGORIAN
METHOD:PUBLISH
X-WR-CALNAME:Octubre Centre de Cultura Contemporània
X-ORIGINAL-URL:https://octubre.cat
X-WR-CALDESC:Events for Octubre Centre de Cultura Contemporània
BEGIN:VTIMEZONE
TZID:Europe/Andorra
BEGIN:DAYLIGHT
TZOFFSETFROM:+0100
TZOFFSETTO:+0200
TZNAME:CEST
DTSTART:20250330T010000
END:DAYLIGHT
BEGIN:STANDARD
TZOFFSETFROM:+0200
TZOFFSETTO:+0100
TZNAME:CET
DTSTART:20251026T010000
END:STANDARD
END:VTIMEZONE
BEGIN:VEVENT
DTSTART;TZID=Europe/Andorra:20250904T190000
DTEND;TZID=Europe/Andorra:20250904T190000
DTSTAMP:20260420T132422
CREATED:20250709T101913Z
LAST-MODIFIED:20250710T053057Z
UID:23205-1757012400-1757012400@octubre.cat
SUMMARY:NVCLI – Sessió terapèutica #18
DESCRIPTION:ESPECTRE \n+ \nMARIA TAKADANOBABA
URL:https://octubre.cat/activitat/nvcli-sessio-terapeutica-18/
LOCATION:Sala d’actes
CATEGORIES:NVCLI
ATTACH;FMTTYPE=image/jpeg:https://octubre.cat/www/wp-content/uploads/2025/07/nvcli18.jpg
END:VEVENT
END:VCALENDAR