BEGIN:VCALENDAR
VERSION:2.0
PRODID:-//Octubre Centre de Cultura Contemporània - ECPv5.1.6//NONSGML v1.0//EN
CALSCALE:GREGORIAN
METHOD:PUBLISH
X-WR-CALNAME:Octubre Centre de Cultura Contemporània
X-ORIGINAL-URL:https://octubre.cat
X-WR-CALDESC:Events for Octubre Centre de Cultura Contemporània
BEGIN:VTIMEZONE
TZID:Europe/Andorra
BEGIN:DAYLIGHT
TZOFFSETFROM:+0100
TZOFFSETTO:+0200
TZNAME:CEST
DTSTART:20250330T010000
END:DAYLIGHT
BEGIN:STANDARD
TZOFFSETFROM:+0200
TZOFFSETTO:+0100
TZNAME:CET
DTSTART:20251026T010000
END:STANDARD
END:VTIMEZONE
BEGIN:VEVENT
DTSTART;TZID=Europe/Andorra:20250702T193000
DTEND;TZID=Europe/Andorra:20250702T193000
DTSTAMP:20260420T132424
CREATED:20250613T081304Z
LAST-MODIFIED:20250613T081435Z
UID:22918-1751484600-1751484600@octubre.cat
SUMMARY:NVCLI – Sessió terapèutica #17
DESCRIPTION:MARTIYYO amb MIQUEL ÀNGEL MARIN\n6th DIMENSION MACHINE \n…………………\nMARTIYYO amb MIQUEL ÀNGEL MARÍN (gira Object Joué 2025)\nMARTIYYO és una proposta d´improvisació lliure a duo: Martí + algú altre.  En aquesta ocasió\, Miquel Àngel Marín\, clarinetista\, poeta i poeta de les accions.\nMARTIYYO són músics i no músics\, de diferents contextos\, corrents  musicals i vessants artístics. Es juga en temps real tot emprant els sons produïts per la persona convidada. El material sonor és capturat i manipulat i es genera un diàleg imprevisible.\nUn duet  mutant\, ple de sorpreses\, estimulant\, agosarat. \n…………………\n6th DIMENSION MACHINE és un projecte fallit de Fausto Furioso que combina instruments antics amb sintetitzadors i caixes de ritmes\, a mig camí entre el retro-ambient i la post-electrònica.
URL:https://octubre.cat/activitat/nvcli-sessio-terapeutica-17/
LOCATION:Sala d’actes
CATEGORIES:NVCLI
ATTACH;FMTTYPE=image/jpeg:https://octubre.cat/www/wp-content/uploads/2025/06/nvcli17.jpg
END:VEVENT
END:VCALENDAR