BEGIN:VCALENDAR
VERSION:2.0
PRODID:-//Octubre Centre de Cultura Contemporània - ECPv5.1.6//NONSGML v1.0//EN
CALSCALE:GREGORIAN
METHOD:PUBLISH
X-WR-CALNAME:Octubre Centre de Cultura Contemporània
X-ORIGINAL-URL:https://octubre.cat
X-WR-CALDESC:Events for Octubre Centre de Cultura Contemporània
BEGIN:VTIMEZONE
TZID:Europe/Andorra
BEGIN:DAYLIGHT
TZOFFSETFROM:+0100
TZOFFSETTO:+0200
TZNAME:CEST
DTSTART:20220327T010000
END:DAYLIGHT
BEGIN:STANDARD
TZOFFSETFROM:+0200
TZOFFSETTO:+0100
TZNAME:CET
DTSTART:20221030T010000
END:STANDARD
END:VTIMEZONE
BEGIN:VEVENT
DTSTART;TZID=Europe/Andorra:20220330T190000
DTEND;TZID=Europe/Andorra:20220330T190000
DTSTAMP:20260420T152850
CREATED:20220215T175654Z
LAST-MODIFIED:20220215T175743Z
UID:17855-1648666800-1648666800@octubre.cat
SUMMARY:Novocine: Nise\, o coração da loucura\, de Roberto Berliner
DESCRIPTION:En sortir de la presó després de complir pena per motius polítics\, la doctora Nise da Silveira torna a treballar en un hospital psiquiàtric als afores de Rio de Janeiro i es nega a utilitzar electroxocs i lobotomies en el tractament dels pacients amb esquizofrènia. Deixada de banda pels altres metges del centre\, acaba fent-se càrrec del Sector de Teràpia Ocupacional\, fins ara abandonat\, on inicia a una revolució regida per l’amor\, l’art i la bogeria. \nDirecció Roberto Berliner\nGuió: Flávia Castro\, Mauricio Lissovsky\, Maria Camargo y Chris Alcazar\nBanda sonora: Jaques Morelenbaum\nProducció: TV Zero\nRepartiment: Gloria Pires\, Fabrício Boliveira\, Roney Villela\, Flávio Bauraqu\, Simone Mazzer\, Julio Adrião\, Bernardo Marinho\nBrasil (2015)\nDurada: 105’ \n  \n \n—\nNovocine – Mostra de Cinema Brasiler\, un cicle promogut per l’ambaixada de Brasil a Madrid i pel consolat de Brasil a València amb la col·laboració de l’Octubre CCC
URL:https://octubre.cat/activitat/novocine-nise-o-coracao-da-loucura-de-roberto-berliner/
LOCATION:Sala d’actes
CATEGORIES:Novocine - Mostra de Cinema Brasiler
ATTACH;FMTTYPE=image/jpeg:https://octubre.cat/www/wp-content/uploads/2022/02/Nise_o_coracao_da_loucura_08.jpg
END:VEVENT
END:VCALENDAR