BEGIN:VCALENDAR
VERSION:2.0
PRODID:-//Octubre Centre de Cultura Contemporània - ECPv5.1.6//NONSGML v1.0//EN
CALSCALE:GREGORIAN
METHOD:PUBLISH
X-WR-CALNAME:Octubre Centre de Cultura Contemporània
X-ORIGINAL-URL:https://octubre.cat
X-WR-CALDESC:Events for Octubre Centre de Cultura Contemporània
BEGIN:VTIMEZONE
TZID:Europe/Andorra
BEGIN:DAYLIGHT
TZOFFSETFROM:+0100
TZOFFSETTO:+0200
TZNAME:CEST
DTSTART:20160327T010000
END:DAYLIGHT
BEGIN:STANDARD
TZOFFSETFROM:+0200
TZOFFSETTO:+0100
TZNAME:CET
DTSTART:20161030T010000
END:STANDARD
END:VTIMEZONE
BEGIN:VEVENT
DTSTART;TZID=Europe/Andorra:20160623T200000
DTEND;TZID=Europe/Andorra:20160623T200000
DTSTAMP:20260421T163751
CREATED:20200729T171933Z
LAST-MODIFIED:20200729T185538Z
UID:10725-1466712000-1466712000@octubre.cat
SUMMARY:Novembre Elèctric & Hèctor Serra  presenten 'Tremole'
DESCRIPTION:Dijous 23 de juny a les 20.00h. Dia Internacional de la Música 2016. Entrada gratuïta.  \n  \n  \n\n El grup Novembre Elèctric torna a la càrrega. Després del seu debut amb Intacte (Mésdemil\, 2014 – Premi Ovidi al Millor Disc de Pop)\, el projecte encapçalat per l’algemesinenc Yeray Calvo reapareix amb un nou treball discogràfic sota el braç. Tremole és el resultat de sumar a les seues melodies els textos del poeta aldaier Hèctor Serra. Una proposta que posa el fet poètic al centre gravitatori i que permet una sonoritat més acústica\, nua i transparent que al primer disc.  Entrades gratïtes Dia de la Música 2016\, amb la col·laboració de l’INAEM i ACCES  — Espai Octubre Concerts és una iniciativa de l’Octubre CCC gestionada per les productores musicals Metrònom\, Play Producciones\,  Mésdemil i lacasacalba.org.
URL:https://octubre.cat/activitat/novembre-electric-hector-serra-presenten-tremole/
CATEGORIES:Espai Octubre Concerts
ATTACH;FMTTYPE=image/jpeg:https://octubre.cat/www/wp-content/uploads/2020/07/activitat2615.jpg
END:VEVENT
END:VCALENDAR