BEGIN:VCALENDAR
VERSION:2.0
PRODID:-//Octubre Centre de Cultura Contemporània - ECPv5.1.6//NONSGML v1.0//EN
CALSCALE:GREGORIAN
METHOD:PUBLISH
X-WR-CALNAME:Octubre Centre de Cultura Contemporània
X-ORIGINAL-URL:https://octubre.cat
X-WR-CALDESC:Events for Octubre Centre de Cultura Contemporània
BEGIN:VTIMEZONE
TZID:Europe/Andorra
BEGIN:DAYLIGHT
TZOFFSETFROM:+0100
TZOFFSETTO:+0200
TZNAME:CEST
DTSTART:20110327T010000
END:DAYLIGHT
BEGIN:STANDARD
TZOFFSETFROM:+0200
TZOFFSETTO:+0100
TZNAME:CET
DTSTART:20111030T010000
END:STANDARD
END:VTIMEZONE
BEGIN:VEVENT
DTSTART;TZID=Europe/Andorra:20110516T200000
DTEND;TZID=Europe/Andorra:20110516T200000
DTSTAMP:20260421T093412
CREATED:20200729T165527Z
LAST-MODIFIED:20200730T042821Z
UID:9231-1305576000-1305576000@octubre.cat
SUMMARY:Nou ordre\, idèntics abusos. Informe sobre la tortura a l'Irak
DESCRIPTION:Dilluns 16 de maig\, a les 20.00h: Presentació de l’informe sobre la tortura a l’Irak d’Amnistia Internacional.   \n  \n  \n\nNou ordre\, idèntics abusos. Informe sobre la tortura a l’Irak  Amb la participació de:  Josep Vicent Estalrich (membre d’Amnistia Internacional) Pius Alibek (escriptor\, autor d’Arrels nòmades) Vicent Monteagud (cap d’Internacional de RTVV-Canal 9 i corresponsal de guerra a l’Irak).   Organitza: Amnistia Internacional València.
URL:https://octubre.cat/activitat/nou-ordre-identics-abusos-informe-sobre-la-tortura-a-lirak/
LOCATION:No definit
CATEGORIES:Conferències i congressos
ATTACH;FMTTYPE=image/jpeg:https://octubre.cat/www/wp-content/uploads/2020/07/activitat1459.jpg
END:VEVENT
END:VCALENDAR