BEGIN:VCALENDAR
VERSION:2.0
PRODID:-//Octubre Centre de Cultura Contemporània - ECPv5.1.6//NONSGML v1.0//EN
CALSCALE:GREGORIAN
METHOD:PUBLISH
X-WR-CALNAME:Octubre Centre de Cultura Contemporània
X-ORIGINAL-URL:https://octubre.cat
X-WR-CALDESC:Events for Octubre Centre de Cultura Contemporània
BEGIN:VTIMEZONE
TZID:Europe/Andorra
BEGIN:DAYLIGHT
TZOFFSETFROM:+0100
TZOFFSETTO:+0200
TZNAME:CEST
DTSTART:20120325T010000
END:DAYLIGHT
BEGIN:STANDARD
TZOFFSETFROM:+0200
TZOFFSETTO:+0100
TZNAME:CET
DTSTART:20121028T010000
END:STANDARD
END:VTIMEZONE
BEGIN:VEVENT
DTSTART;TZID=Europe/Andorra:20120425T193000
DTEND;TZID=Europe/Andorra:20120425T193000
DTSTAMP:20260420T230323
CREATED:20200729T165730Z
LAST-MODIFIED:20200729T183832Z
UID:9353-1335382200-1335382200@octubre.cat
SUMMARY:“Nosaltres\, els fusterians”
DESCRIPTION:Dimecres 25 d’abril a les 19.30h: Homenatge a Joan Fuster. Taula rodona amb motiu de la celebració del cinquanta aniversari de la publicació de “Nosaltres\, els valencians”\, amb Anna Oliver\, Toni Infante\, Agustí Cerdà i Josep Guia.  \n  \n  \n\nPerquè enguany celebrem els cinquanta anys de la publicació de Nosaltres\, els valencians\, un llibre cabdal en la definició de la nostra identitat nacional\, i per sumar-nos a la difusió del pensament polític de Joan Fuster\, diverses organitzacions que compartim el marc dels Països Catalans com a àmbit de l’activitat política\, i l’objectiu de la independència per al conjunt de la nació\, hem coincidit per a l’homenatge.  Us convidem a assistir a la taula rodona\, que comptarà amb les intervencions següents:  · Anna Oliver\, coordinadora al País Valencià de Solidaritat per la Independència (SI)  · Toni Infante\, del Moviment de Defensa de la Terra (MDT)  · Agustí Cerdà\, president d’Esquerra Republicana del País Valencià (ERPV)  · Josep Guia\, del Comitè Executiu del Partit Socialista d’Alliberament Nacional (PSAN)  Conduirà l’acte\, i llegirà textos de Joan Fuster\, Francesc Anyó.  En acabar\, se servirà un vi d’honor.
URL:https://octubre.cat/activitat/nosaltres-els-fusterians/
LOCATION:No definit
CATEGORIES:Conferències i congressos
ATTACH;FMTTYPE=image/jpeg:https://octubre.cat/www/wp-content/uploads/2020/07/activitat1596.jpg
END:VEVENT
END:VCALENDAR