BEGIN:VCALENDAR
VERSION:2.0
PRODID:-//Octubre Centre de Cultura Contemporània - ECPv5.1.6//NONSGML v1.0//EN
CALSCALE:GREGORIAN
METHOD:PUBLISH
X-WR-CALNAME:Octubre Centre de Cultura Contemporània
X-ORIGINAL-URL:https://octubre.cat
X-WR-CALDESC:Events for Octubre Centre de Cultura Contemporània
BEGIN:VTIMEZONE
TZID:Europe/Andorra
BEGIN:DAYLIGHT
TZOFFSETFROM:+0100
TZOFFSETTO:+0200
TZNAME:CEST
DTSTART:20150329T010000
END:DAYLIGHT
BEGIN:STANDARD
TZOFFSETFROM:+0200
TZOFFSETTO:+0100
TZNAME:CET
DTSTART:20151025T010000
END:STANDARD
END:VTIMEZONE
BEGIN:VEVENT
DTSTART;TZID=Europe/Andorra:20151223T000000
DTEND;TZID=Europe/Andorra:20151223T000000
DTSTAMP:20260421T033107
CREATED:20200729T171303Z
LAST-MODIFIED:20200730T041532Z
UID:10306-1450828800-1450828800@octubre.cat
SUMMARY:'No respires\, el amor está en el aire'\, de Joan Potau
DESCRIPTION:Dimecres 25 de novembre a les 19.00h. Projecció en homenatge al director (mort aquest any) i inclosa dins del cicle de cinema Barcelona Escenari 2015. Entrada lliure.  \n  \n  \n\n Projecció en homenatge al director\, mort aquest any.  Un urbanita escèptic que està a punt de suïcidar-se per una fallida econòmica es perd a la Barcelona disposat a llevar-se la vida. És en aquest moment que es troba amb un altre suïcida\, aquest per un amor no correspost\, al qual salva i li presenta la seua família fascinant\, especialment una germana ben seductora…  Direcció i guió: Joan Potau (1999) Repartiment: Óscar Ladoire\, Carlos Fuentes\, Ana Risueño\, Leonor Watling\, José Luis López Vázquez\, Andréa Ferreol\, Carme Elías Durada: 101 minuts  Cicle organitzat per l’Octubre Centre de Cultura Contemporània amb el patrocini de l’Institut de Cultura de Barcelona Col·labora: Mostra Viva Direcció del cicle: Antonio Lloréns
URL:https://octubre.cat/activitat/no-respires-el-amor-esta-en-el-aire-de-joan-potau/
LOCATION:No definit
CATEGORIES:Barcelona escenari 2015 (cinema)
ATTACH;FMTTYPE=image/jpeg:https://octubre.cat/www/wp-content/uploads/2020/07/activitat2396.jpg
END:VEVENT
END:VCALENDAR