BEGIN:VCALENDAR
VERSION:2.0
PRODID:-//Octubre Centre de Cultura Contemporània - ECPv5.1.6//NONSGML v1.0//EN
CALSCALE:GREGORIAN
METHOD:PUBLISH
X-WR-CALNAME:Octubre Centre de Cultura Contemporània
X-ORIGINAL-URL:https://octubre.cat
X-WR-CALDESC:Events for Octubre Centre de Cultura Contemporània
BEGIN:VTIMEZONE
TZID:Europe/Andorra
BEGIN:DAYLIGHT
TZOFFSETFROM:+0100
TZOFFSETTO:+0200
TZNAME:CEST
DTSTART:20140330T010000
END:DAYLIGHT
BEGIN:STANDARD
TZOFFSETFROM:+0200
TZOFFSETTO:+0100
TZNAME:CET
DTSTART:20141026T010000
END:STANDARD
END:VTIMEZONE
BEGIN:VEVENT
DTSTART;TZID=Europe/Andorra:20141210T200000
DTEND;TZID=Europe/Andorra:20141210T200000
DTSTAMP:20260421T034318
CREATED:20200729T170822Z
LAST-MODIFIED:20200902T161641Z
UID:10010-1418241600-1418241600@octubre.cat
SUMMARY:' No em demanis que et faci un petó\, perquè te’l faré'\, d’Albert Espinosa
DESCRIPTION:  \n\nDimecres 10 de desembre a les 20.00h. Projecció inclosa en el cicle de cinema Barcelona Escenari 2014 \n \n\n (atenció: aquesta pel·lícula es projecta una hora més tard del que és habitual en el cicle: a les 20.00h) Albert està a punt de casar-se amb Helena\, però\, quan només manquen uns dies\, comença a dubtar si realment la vol. El temps passa i\, per a evitar parlar amb ella\, s’apunta a un curs de guitarra amb nois especials (amb discapacitat mental) que ens desvetllaran un gran truc per saber si volem o no a la persona que està al nostre costat. Una comèdia tractada amb aquell toc d’Espinosa que li permet parlar del món de les persones especials des d’una perspectiva tan positiva\, alegre i humana com ja havia fet en ocasions anteriors. Dirigida\, escrita i coprotagonitzada per Albert Espinosa (2008) Produïda per Rodar y Rodar Interpretada per Eloy Azorín\, Jan Cornet\, Teresa Hurtado\, Golan Yosef\, Roberto Enríquez\, Andreu Rifé\, Albert Espinosa i Rebeca Comerma. — Cicle organitzat per l’Octubre CCC amb el patrocini de l’Institut de Cultura de Barcelona (ICUB). Col·labora: Mostra Viva Director del cicle: Antonio Llorens Entrada lliure
URL:https://octubre.cat/activitat/no-em-demanis-que-et-faci-un-peto-perque-tel-fare-dalbert-espinosa/
CATEGORIES:Barcelona Escenari 2014 (cinema),Cinema
ATTACH;FMTTYPE=image/jpeg:https://octubre.cat/www/wp-content/uploads/2020/07/activitat2207.jpg
END:VEVENT
END:VCALENDAR