BEGIN:VCALENDAR
VERSION:2.0
PRODID:-//Octubre Centre de Cultura Contemporània - ECPv5.1.6//NONSGML v1.0//EN
CALSCALE:GREGORIAN
METHOD:PUBLISH
X-WR-CALNAME:Octubre Centre de Cultura Contemporània
X-ORIGINAL-URL:https://octubre.cat
X-WR-CALDESC:Events for Octubre Centre de Cultura Contemporània
BEGIN:VTIMEZONE
TZID:Europe/Andorra
BEGIN:DAYLIGHT
TZOFFSETFROM:+0100
TZOFFSETTO:+0200
TZNAME:CEST
DTSTART:20080330T010000
END:DAYLIGHT
BEGIN:STANDARD
TZOFFSETFROM:+0200
TZOFFSETTO:+0100
TZNAME:CET
DTSTART:20081026T010000
END:STANDARD
END:VTIMEZONE
BEGIN:VEVENT
DTSTART;TZID=Europe/Andorra:20080208T000000
DTEND;TZID=Europe/Andorra:20080209T000000
DTSTAMP:20260420T190429
CREATED:20200729T181726Z
LAST-MODIFIED:20200730T035628Z
UID:12488-1202428800-1202515200@octubre.cat
SUMMARY:Nits d’Aielo i Art en l’exili
DESCRIPTION:8 i 9 de febrer. Després de 10 anys de trajectòria ininterrompuda\, les Nits d’Aielo i Art han hagut de deixar la Vall d’Albaida a causa de la manca de suport per part del nou consistori d’Aielo de Malferit. Però el festival celebrarà els seu desé aniversari a l’OCCC\, continuant així amb l’experimentació i recerca de nous sons.  \n  \n  \n\nDesprés de 10 anys de trajectòria ininterrompuda\, les Nits d’Aielo i Art han hagut de deixar la Vall d’Albaida a causa de la manca de suport per part del nou consistori d’Aielo de Malferit. Però el festival celebrarà els seu desé aniversari a l’OCCC\, continuant així amb l’experimentació i recerca de nous sons.  Programa:  Instal·lacións  i documentals:  Peter Bosch i Simone Simons  Forques (instal·lació) Carlos Azpilicueta  Fang Roig (escultura interactiva) Eric Meyer  De Sol a Sol (vídeo-loop) Santiago Barber\, Raúl Cantizano\,Antonio Santos i Oscar Clemente 10 nits d’Aielo i Art. Un festival en la dificultat d’allò desconegut (vídeo-loop)   Divendres 8 16.30h a 21.30h  Seminari “Poder i Cultura. Excepcions\, conveniència i convivència”  A càrrec de Nelo Vilar\, Carmen Pardo\, Miquel Ortolá\, Voro García i Miquel Morey.  Words don´t come easy\, Where´s Don José? Concert simfònic per a walkie talkies. (Sevilla) Alejandro Peña i Manuel Prados Sánchez  Club Guantánamo Antonio Murga / Noistron” Antonio Murga al baix\, fonts sonores\, vídeos. Daniel Cascales a la bateria\, percussions. Fatigue Dro\, barreges audiovisuales. Nuria Font amb el saxo alt. Jony Topix amb sinte\, mac i Le Ligre punxant sons atmosfèrics. (Sevilla)  El llibre del Bandoneó i altres bestialitats de la Vall del Silicó. O els Ordinadors como a instruments musicals  Hans Koch (Alemanya)  Una música pera  insectes  Ricardo Climent (electrònica ) amb Idoia Zabaleta (ballarina) i Iñigo  Ibaibarriaga (saxofons).Drosophila. (València/País Basc).  Tauromàquia. Eric Meyer (Països Baixos)  Sonar Orleans  Xavier Iriondo i Fernando Aguirre (País Basc)    22.15h a 00.15h  L’HORA FOSCA  LRM  Videoperformance musical (Madrid).  A càrrec de Berta Delgado i David Aladro-Vico  L’Altre Il·lustre Col·legi Oficial de Pataphysica Piano\, trompa\, guitarra sorollista\, viola i orador. Música i textos originals. (València)  El simultaneïsme accional. A càrrec de Simberifora (València)  Al voltant de Llorenç Barber I.  Grup Cosmos 21 Obres de: Juan Hidalgo / Walter Marchetti\, Llorenç Barber\, Ramón Barce\, Jacobo Durán-Lóriga\, Carlos Galán i Tom Johnson  Dir. Carlos Galán (Madrid)   Breu assaig sobre la cèlebre noció del temps Llorenç Barber Música parlada (Aielo de Malferit)     Dissabte 9 12.00h a 14.00h  Seminari “Del món com a Orquestra: músiques de serena i intempèrie”  (seixanta aniversari de Ll.Barber) . A cárrec de Maria Teresa García Sánchez  Sonar ciutats  Xavier Iriondo i Fernando Aguirre (País Basc)   17h a 21.30h  Traummaschine Experimentació\, música improvisada\, drones\, free jazz\, electrònica\, sorolls (L’Aljorf\, València)  Sonorum Project Grup de música experimental de l’IES l’Olleria Improvisació Gèstica Dir. Òscar Vidal (Aielo de Malferit)  L’absència de l’home es revela amb la presència de les coses de Ramon Humet Clarinet per Miquel Àngel Marín i poemes de Mario Lucarda. (Catalunya) (Estrena de l’obra encàrrec de l’IVM)  New York counterpoint\, de Steve Reich  A càrrec de Miquel Àngel Marín. Obra per a clarinet i cinta. (Estrena a València)   De Llum i Só A càrrec de Phill Niblock i Thomas Ankersmit. Vídeos e imatges de la sèrie Moviment of People Working de P.Niblock (EUA)  0\,2. Percussió\, electroacústica i creació en viu Joan Castelló a la percussió i Francisco Javier García Ruiz amb l’electroacústica (València/Aielo de Malferit)   Al voltant de Llorenç Barber II Grup Cosmos 21 Obres de: Morton Feldman\, Llorenç Barber\, John Cage\, José María Sánchez Verdú\, Steve Reich i Early Brown . Dir. Carlos Galán (Madrid)  22.15h a 23.30h  Lliuramentdel Primer Premi Rector Castillejo al Propondre més Foragitat.  A càrrec del jurat\, constituït enguany per Miquel Molina\, Rubén García\, Montserrat Palacios\, Bartomeu Ferrando i Joan Castelló.  Improvisació per a un instrument amfibi A càrrec de David Daniel Guitarra eléctrica. (USA)  Fut BOOL Manuel Rocha. Instal·lació conciert. (Mèxic)   23.30h a 01h L’HORA FOSCA.   Temazcal  Peça per a maraques i electrònica en cinta del mexicà Javier Álvarez Déu diu deu dins del Dau de Llorenç Barber\, una obra-encàrrec del Gru Amores\, ara en versió per a electrònica i percussió. A càrrec de DSP-Percussió\, Vicent Gómez -electrónica-  i Iván Herranz -percussió- (Valencia)    Paisatges Sonors  de València: Creació i Recreació d’una gran ciutat\, amb estudis de la seua Qualitat Sonora A càrrec de J.Luis Carles Xarrada-Audició. (València)  El simultaneïsme accional II A càrrec de Sinberífora (València) Sonates i Interludis de John Cage per a piano preparat A càrrec de Juan Carlos Martínez. Piano. (Madrid)    Organitza Nits d’Aielo i Art amb la col·laboració de l’OCCC / Preu de l’entrada: un dia\, 3 euros; 2 dies\, 5 euros.
URL:https://octubre.cat/activitat/nits-daielo-i-art-en-lexili/
LOCATION:No definit
CATEGORIES:Performance
ATTACH;FMTTYPE=image/jpeg:https://octubre.cat/www/wp-content/uploads/2020/07/performance1.jpg
END:VEVENT
END:VCALENDAR