BEGIN:VCALENDAR
VERSION:2.0
PRODID:-//Octubre Centre de Cultura Contemporània - ECPv5.1.6//NONSGML v1.0//EN
CALSCALE:GREGORIAN
METHOD:PUBLISH
X-WR-CALNAME:Octubre Centre de Cultura Contemporània
X-ORIGINAL-URL:https://octubre.cat
X-WR-CALDESC:Events for Octubre Centre de Cultura Contemporània
BEGIN:VTIMEZONE
TZID:Europe/Andorra
BEGIN:DAYLIGHT
TZOFFSETFROM:+0100
TZOFFSETTO:+0200
TZNAME:CEST
DTSTART:20260329T010000
END:DAYLIGHT
BEGIN:STANDARD
TZOFFSETFROM:+0200
TZOFFSETTO:+0100
TZNAME:CET
DTSTART:20261025T010000
END:STANDARD
END:VTIMEZONE
BEGIN:VEVENT
DTSTART;TZID=Europe/Andorra:20260515T200000
DTEND;TZID=Europe/Andorra:20260515T200000
DTSTAMP:20260422T191419
CREATED:20260422T135547Z
LAST-MODIFIED:20260422T135547Z
UID:25282-1778875200-1778875200@octubre.cat
SUMMARY:Nit de monòlegs amb Ana López
DESCRIPTION:Continua la Nit de Monòlegs a l’Octubre Centre de Cultura Contemporània amb Ana López \nAcció Cultural del País Valencià (ACPV) ofereix el cicle “Nit de monòlegs”\, una proposta cultural per gaudir de l’humor en valencià amb artistes emergents i consolidats. \nLa sessió començarà a les 20.00 hores\, amb obertura de portes a les 19.30 hores. \nLes entrades tenen un preu popular de 5 euros i es poden adquirir a través de la plataforma notikumi.com.
URL:https://octubre.cat/activitat/nit-de-monolegs-amb-ana-lopez/
LOCATION:Sala d’actes
CATEGORIES:Nit de monòlegs 2026
ATTACH;FMTTYPE=image/jpeg:https://octubre.cat/www/wp-content/uploads/2026/04/Ana_LOpez-scaled.jpeg
END:VEVENT
END:VCALENDAR