BEGIN:VCALENDAR
VERSION:2.0
PRODID:-//Octubre Centre de Cultura Contemporània - ECPv5.1.6//NONSGML v1.0//EN
CALSCALE:GREGORIAN
METHOD:PUBLISH
X-WR-CALNAME:Octubre Centre de Cultura Contemporània
X-ORIGINAL-URL:https://octubre.cat
X-WR-CALDESC:Events for Octubre Centre de Cultura Contemporània
BEGIN:VTIMEZONE
TZID:Europe/Andorra
BEGIN:DAYLIGHT
TZOFFSETFROM:+0100
TZOFFSETTO:+0200
TZNAME:CEST
DTSTART:20200329T010000
END:DAYLIGHT
BEGIN:STANDARD
TZOFFSETFROM:+0200
TZOFFSETTO:+0100
TZNAME:CET
DTSTART:20201025T010000
END:STANDARD
END:VTIMEZONE
BEGIN:VEVENT
DTSTART;TZID=Europe/Andorra:20200211T200000
DTEND;TZID=Europe/Andorra:20200211T200000
DTSTAMP:20260421T072313
CREATED:20200729T191347Z
LAST-MODIFIED:20200729T191347Z
UID:13698-1581451200-1581451200@octubre.cat
SUMMARY:Nit de les Lletres Catalanes
DESCRIPTION:Dimarts 11 de febrer a les 20.00h. Inclou sopar literari. Organitzada per l’AELC amb la col·laboració d’ACPV.	 \n  \n  \n\n 	 L’Associació d’Escriptors en Llengua Catalana organitza la Nit de les Lletres Catalanes a València\, que se celebra a l’Octubre Centre de Cultura Contemporània. Es tracta d’un recital amb autors referents d’arreu dels Països Catalans amb música d’Alidé Sans\, un sopar literari i un micro obert de lectures de novetats literàries del darrer any. Per poder assistir al sopar i per participar en el micro obert\, escriu-nos a aelc@escriptors.cat abans del 10 de febrer (preu del menú per persona: 16 € soci i acompanyant\, 21 € per a la resta).  — Organitzada per l’AELC amb la col·laboració d’ACPV.
URL:https://octubre.cat/activitat/nit-de-les-lletres-catalanes/
LOCATION:Cafeteria
CATEGORIES:Literatura
ATTACH;FMTTYPE=image/jpeg:https://octubre.cat/www/wp-content/uploads/2020/07/activitat3440.jpg
END:VEVENT
END:VCALENDAR