BEGIN:VCALENDAR
VERSION:2.0
PRODID:-//Octubre Centre de Cultura Contemporània - ECPv5.1.6//NONSGML v1.0//EN
CALSCALE:GREGORIAN
METHOD:PUBLISH
X-WR-CALNAME:Octubre Centre de Cultura Contemporània
X-ORIGINAL-URL:https://octubre.cat
X-WR-CALDESC:Events for Octubre Centre de Cultura Contemporània
BEGIN:VTIMEZONE
TZID:Europe/Andorra
BEGIN:DAYLIGHT
TZOFFSETFROM:+0100
TZOFFSETTO:+0200
TZNAME:CEST
DTSTART:20120325T010000
END:DAYLIGHT
BEGIN:STANDARD
TZOFFSETFROM:+0200
TZOFFSETTO:+0100
TZNAME:CET
DTSTART:20121028T010000
END:STANDARD
END:VTIMEZONE
BEGIN:VEVENT
DTSTART;TZID=Europe/Andorra:20120518T000000
DTEND;TZID=Europe/Andorra:20120519T000000
DTSTAMP:20260424T025917
CREATED:20200729T165759Z
LAST-MODIFIED:20200729T183858Z
UID:9383-1337299200-1337385600@octubre.cat
SUMMARY:Nit de l'Art
DESCRIPTION:Divendres\, 18 de maig\, tot el dia. Amb motiu de la Nit de l’Art\, l’Octubre CCC estarà obert fins les 12h de la nit. Entrada lliure a totes les activitats  \n  \n  \n\nL’Octubre CCC se suma\, conjuntament amb nombroses galeries i entitats culturals de la ciutat de València\, a la Nit de l’Art que\, amb motiu del Dia Internacional dels Museus\, ha organitzat l’Associació de Galeries d’Art Contemporani de la CV (laVAC) per al divendres 18 de maig de 2012.  El nostre Centre estarà obert ininterrompudament fins les 12h de la nit\, amb l’objectiu que els visitants puguen gaudir lliurement de les instal·lacions i les exposicions de l’Octubre CCC.  Les activitats previstes són:  Tot el dia: exposició “Bórax08001 & Virutiers: instint col·lectiu” Tot el dia: exposició “Mauthausen\, crònica gràfica” 19.00h: projecció del film Estació de peatge  Gaudeix la teua ruta La Nit de l’Art i aconsegueix una entrada VIP per a la festa al club Excuse me? a partir de la 01.00h amb Midnight & Vladimir Dynamo
URL:https://octubre.cat/activitat/nit-de-lart/
LOCATION:No definit
CATEGORIES:Exposicions
ATTACH;FMTTYPE=image/jpeg:https://octubre.cat/www/wp-content/uploads/2020/07/activitat1626.jpg
END:VEVENT
END:VCALENDAR