BEGIN:VCALENDAR
VERSION:2.0
PRODID:-//Octubre Centre de Cultura Contemporània - ECPv5.1.6//NONSGML v1.0//EN
CALSCALE:GREGORIAN
METHOD:PUBLISH
X-WR-CALNAME:Octubre Centre de Cultura Contemporània
X-ORIGINAL-URL:https://octubre.cat
X-WR-CALDESC:Events for Octubre Centre de Cultura Contemporània
BEGIN:VTIMEZONE
TZID:Europe/Andorra
BEGIN:DAYLIGHT
TZOFFSETFROM:+0100
TZOFFSETTO:+0200
TZNAME:CEST
DTSTART:20100328T010000
END:DAYLIGHT
BEGIN:STANDARD
TZOFFSETFROM:+0200
TZOFFSETTO:+0100
TZNAME:CET
DTSTART:20101031T010000
END:STANDARD
END:VTIMEZONE
BEGIN:VEVENT
DTSTART;TZID=Europe/Andorra:20100523T190000
DTEND;TZID=Europe/Andorra:20100523T190000
DTSTAMP:20260420T165914
CREATED:20200729T164921Z
LAST-MODIFIED:20200730T042457Z
UID:8839-1274641200-1274641200@octubre.cat
SUMMARY:Nicolas Moreaux Quintet
DESCRIPTION:Diumenge 23 de maig\, a les 19.00h: Nicolas Moreaux Quintet (França).   \n  \n  \n\nNicolas Moreaux és un contrabaix francès\, resident a París en l’actualitat\, però que va passar una temporada a València durant el 2007\, cosa que li va permetre compartir  i intercanviar experiències amb els músics valencians Albert Sanz i Perico Sambeat. En tornar al seu país d’origen\, va enregistrar Beatnick (2008)\, un disc de jazz actual que es caracteritza per la intuïció poètica\, groove\, espontaneïtat\, humor\, l’alternança d’actituds enèrgiques i meditatives i el suport d’una banda que ha connectat espiritualment a la perfecció.  Perico Sambeat\, saxòfon alt / Pierre Perchaud\, guitarra Albert Sanz\, piano / Karl Jannuska\, bateria
URL:https://octubre.cat/activitat/nicolas-moreaux-quintet/
LOCATION:No definit
CATEGORIES:Diumenges de Jazz!
ATTACH;FMTTYPE=image/jpeg:https://octubre.cat/www/wp-content/uploads/2020/07/activitat1188.jpg
END:VEVENT
END:VCALENDAR