BEGIN:VCALENDAR
VERSION:2.0
PRODID:-//Octubre Centre de Cultura Contemporània - ECPv5.1.6//NONSGML v1.0//EN
CALSCALE:GREGORIAN
METHOD:PUBLISH
X-WR-CALNAME:Octubre Centre de Cultura Contemporània
X-ORIGINAL-URL:https://octubre.cat
X-WR-CALDESC:Events for Octubre Centre de Cultura Contemporània
BEGIN:VTIMEZONE
TZID:Europe/Andorra
BEGIN:DAYLIGHT
TZOFFSETFROM:+0100
TZOFFSETTO:+0200
TZNAME:CEST
DTSTART:20130331T010000
END:DAYLIGHT
BEGIN:STANDARD
TZOFFSETFROM:+0200
TZOFFSETTO:+0100
TZNAME:CET
DTSTART:20131027T010000
END:STANDARD
END:VTIMEZONE
BEGIN:VEVENT
DTSTART;TZID=Europe/Andorra:20130116T190000
DTEND;TZID=Europe/Andorra:20130116T190000
DTSTAMP:20260421T072318
CREATED:20200729T165906Z
LAST-MODIFIED:20200729T183959Z
UID:9451-1358362800-1358362800@octubre.cat
SUMMARY:'Nexe'\, de Jordi Cadena
DESCRIPTION:Dimecres 16 de gener a les 19.00h: projecció del film “Nexe” de Jordi Cadena\, dins del cicle “Barcelona escenari”  \n  \n  \n\n Pel·lícula presentada per Jordi Cadena (director)  Amb Silvia Munt\, Ramon Madaula\, Julieta Serrano\, Santiago Ramos i Juan Luis Galiardo  Entrada lliure  Organitzat per l’Octubre CCC amb el patrocini de l’Institut de Cultura de Barcelona
URL:https://octubre.cat/activitat/nexe-de-jordi-cadena/
LOCATION:No definit
CATEGORIES:Barcelona escenari 2012 (cinema)
ATTACH;FMTTYPE=image/jpeg:https://octubre.cat/www/wp-content/uploads/2020/07/activitat1701.jpg
END:VEVENT
END:VCALENDAR