BEGIN:VCALENDAR
VERSION:2.0
PRODID:-//Octubre Centre de Cultura Contemporània - ECPv5.1.6//NONSGML v1.0//EN
CALSCALE:GREGORIAN
METHOD:PUBLISH
X-WR-CALNAME:Octubre Centre de Cultura Contemporània
X-ORIGINAL-URL:https://octubre.cat
X-WR-CALDESC:Events for Octubre Centre de Cultura Contemporània
BEGIN:VTIMEZONE
TZID:Europe/Andorra
BEGIN:DAYLIGHT
TZOFFSETFROM:+0100
TZOFFSETTO:+0200
TZNAME:CEST
DTSTART:20130331T010000
END:DAYLIGHT
BEGIN:STANDARD
TZOFFSETFROM:+0200
TZOFFSETTO:+0100
TZNAME:CET
DTSTART:20131027T010000
END:STANDARD
END:VTIMEZONE
BEGIN:VEVENT
DTSTART;TZID=Europe/Andorra:20130429T190000
DTEND;TZID=Europe/Andorra:20130429T190000
DTSTAMP:20260424T003738
CREATED:20200729T170030Z
LAST-MODIFIED:20200729T184113Z
UID:9531-1367262000-1367262000@octubre.cat
SUMMARY:'Neuquén. Río impetuoso'\, de Matías Estévez
DESCRIPTION:Dilluns 29 d’abril a les 19.00h. Projecció del documental ‘Neuquén. Río impetuoso’\, de Matías Estévez sobre el fracking a l’Argentina. Organitzat per Ecologistes en Acció  \n  \n  \n\n Fracking a l’Argentina  Documental de Matías Estévez Argentina\, 2012\, 50 min. V. O. en castellà  Després de la projecció debat dirigit per Rodrigo Irurzun\, coordinador d’Energia d’Ecologistes en Acció.  Des d’Argentina\, el documentalista Matías Estévez ens mostra els efectes del fracking (o fracturació hidràulica) en els jaciments de gas no convencional de Vaca Muerta\, que foren descoberts recentment per Repsol-YPF. La tècnica del fracking suposa una gravíssima contaminació de l’aigua i dels aqüífers. A Espanya ja s’han atorgat més de cent permisos per a fer fràcking i les plataformes ciutadanes en la seua contra es multipliquen. Les comarques de Castelló són les darreres en veure’s afectades.  Organitzat per Ecologistes en Acció de València Entrada lliure
URL:https://octubre.cat/activitat/neuquen-rio-impetuoso-de-matias-estevez/
LOCATION:Sala d’actes
CATEGORIES:Cinema
ATTACH;FMTTYPE=image/jpeg:https://octubre.cat/www/wp-content/uploads/2020/07/activitat1787.jpg
END:VEVENT
END:VCALENDAR