BEGIN:VCALENDAR
VERSION:2.0
PRODID:-//Octubre Centre de Cultura Contemporània - ECPv5.1.6//NONSGML v1.0//EN
CALSCALE:GREGORIAN
METHOD:PUBLISH
X-WR-CALNAME:Octubre Centre de Cultura Contemporània
X-ORIGINAL-URL:https://octubre.cat
X-WR-CALDESC:Events for Octubre Centre de Cultura Contemporània
BEGIN:VTIMEZONE
TZID:Europe/Andorra
BEGIN:DAYLIGHT
TZOFFSETFROM:+0100
TZOFFSETTO:+0200
TZNAME:CEST
DTSTART:20170326T010000
END:DAYLIGHT
BEGIN:STANDARD
TZOFFSETFROM:+0200
TZOFFSETTO:+0100
TZNAME:CET
DTSTART:20171029T010000
END:STANDARD
END:VTIMEZONE
BEGIN:VEVENT
DTSTART;TZID=Europe/Andorra:20170324T200000
DTEND;TZID=Europe/Andorra:20170324T200000
DTSTAMP:20260420T114922
CREATED:20200729T172437Z
LAST-MODIFIED:20200729T185752Z
UID:11049-1490385600-1490385600@octubre.cat
SUMMARY:'#neon'\, de Juan Limousine Photography
DESCRIPTION:Divendres 24 de març a les 20.00h.  \n  \n  \n\n #neon és un projecte multimèdia on es combinen fotografia\, pintura i audiovisual per a recrear els passos en la creació d’una obra viva. És\, per tant\, procés i artefacte. És moviment\, llum\, textures i música. Convida a l’espectador a observar el detall i el tot\, a explorar la composició d’una manera dinàmica i activa.  L’estiu de 2015\, l’artista Juan Limousine Photography comença a experimentar amb llum negra i pintures fluorescents\, i això és el naixement de #neon. La seua part principal\, la seua columna vertebral que fusiona performance\, música i fotografia parteix de la imatge en moviment musicada per la banda The Standby Connection. Aquesta progressió audiovisual d’uns dotze minuts de durada conta el procés de creació d’aquest quadre viu que bat al ritme dels sons sincopats d’una de les bandes més creatives del moment al País Valencià.  The Standby Connection són Miguel M. Matallín\, Paco Grande i Jesús Sáez\, tots ells ex-membres dels mítics Polar\, i sempre vinculats a l’escena musical i audiovisual amb diversos projectes.   Per a #neon\, l’autor s’inspira en obres de Jackson Pollock (tot entenent la creació artística com un procés que cobra vida a mesura que es va realitzant) i també en les col·laboracions de Thurstone Moore de Sonic Youth amb el cineasta i fotògraf Michael Kern.  Cal subratllar\, d’altra banda\, que no es tracta d’un video-clip\, sinó que Juan Limousine Photography i The Standby Connection han creat un projecte col·laboratiu on les propostes es fusionen per crear l’atmosfera densa i caòtica que intentaven obtenir.
URL:https://octubre.cat/activitat/neon-de-juan-limousine-photography/
CATEGORIES:Videoart
ATTACH;FMTTYPE=image/jpeg:https://octubre.cat/www/wp-content/uploads/2020/07/activitat2784.jpg
END:VEVENT
END:VCALENDAR