BEGIN:VCALENDAR
VERSION:2.0
PRODID:-//Octubre Centre de Cultura Contemporània - ECPv5.1.6//NONSGML v1.0//EN
CALSCALE:GREGORIAN
METHOD:PUBLISH
X-WR-CALNAME:Octubre Centre de Cultura Contemporània
X-ORIGINAL-URL:https://octubre.cat
X-WR-CALDESC:Events for Octubre Centre de Cultura Contemporània
BEGIN:VTIMEZONE
TZID:Europe/Andorra
BEGIN:DAYLIGHT
TZOFFSETFROM:+0100
TZOFFSETTO:+0200
TZNAME:CEST
DTSTART:20090329T010000
END:DAYLIGHT
BEGIN:STANDARD
TZOFFSETFROM:+0200
TZOFFSETTO:+0100
TZNAME:CET
DTSTART:20091025T010000
END:STANDARD
END:VTIMEZONE
BEGIN:VEVENT
DTSTART;TZID=Europe/Andorra:20090122T200000
DTEND;TZID=Europe/Andorra:20090122T200000
DTSTAMP:20260420T113118
CREATED:20200730T035933Z
LAST-MODIFIED:20200730T035933Z
UID:14067-1232654400-1232654400@octubre.cat
SUMMARY:Nasty Boogie
DESCRIPTION:Dijous 22 de gener a les 20.00h: Nasty Boogie (València)  \n  \n  \n\nDaniel Tena (València\, 1977) i Raúl Rabadan (Barcelona\, 1979) es coneixen a València\, presentats per l’harmonicista Danny Boy. La seua passió pel vell blues fa que connecten immediatament i aviat formen un duo que passa a anomenar-se Nasty Boogie i enregistren la seua primera maqueta el 2006. Posteriorment\, es transformen en trio\, amb baixistes com Eduardo Mota o Tonete\, fins que contacten amb Juanjo Malasideas i\, amb aquest i Tonete\, es transformen en quartet. Queden finalistes del Primer Concurs de La Societat del Blues de Barcelona i\, actualment\, preparen el seu primer CD d’estudi\, que confien editar el 2009. Han tocat amb gent com Danny Boy\, Suitcase Brothers\, Midnight Rockets\, Tota\, Tonky De La Peña o Karen Carroll.
URL:https://octubre.cat/activitat/nasty-boogie/
LOCATION:No definit
CATEGORIES:Cicle de música pop
ATTACH;FMTTYPE=image/jpeg:https://octubre.cat/www/wp-content/uploads/2020/07/activitat748.jpg
END:VEVENT
END:VCALENDAR