BEGIN:VCALENDAR
VERSION:2.0
PRODID:-//Octubre Centre de Cultura Contemporània - ECPv5.1.6//NONSGML v1.0//EN
CALSCALE:GREGORIAN
METHOD:PUBLISH
X-WR-CALNAME:Octubre Centre de Cultura Contemporània
X-ORIGINAL-URL:https://octubre.cat
X-WR-CALDESC:Events for Octubre Centre de Cultura Contemporània
BEGIN:VTIMEZONE
TZID:Europe/Andorra
BEGIN:DAYLIGHT
TZOFFSETFROM:+0100
TZOFFSETTO:+0200
TZNAME:CEST
DTSTART:20100328T010000
END:DAYLIGHT
BEGIN:STANDARD
TZOFFSETFROM:+0200
TZOFFSETTO:+0100
TZNAME:CET
DTSTART:20101031T010000
END:STANDARD
END:VTIMEZONE
BEGIN:VEVENT
DTSTART;TZID=Europe/Andorra:20101125T223000
DTEND;TZID=Europe/Andorra:20101125T223000
DTSTAMP:20260420T114641
CREATED:20200729T165210Z
LAST-MODIFIED:20200730T042624Z
UID:9026-1290724200-1290724200@octubre.cat
SUMMARY:Naima
DESCRIPTION:Dijous 25 de novembre\, a les 22.30h: Cicle Melodies animades. Naima (València).  \n  \n  \n\nNaima naix el 2004 amb la intenció d’acostar un estil complex com és el jazz a la música popular. D’aquesta manera\, vol acostar al públic una música carregada de matisos mitjançant melodies fàcils de reconèixer i algun èxit pop rock. Naima es presenten en una formació clàssica de quartet\, amb un saxo tenor\, una bateria\, un piano i un contrabaix\, però actualitzada gràcies als sons electrònics.   El seu espectacle és un viatge que travessa pobles mediterranis\, però fent també un tomb cap al nord en busca dels sons que ens transporten cap a ciutats escandinaves. El seu segon disc\, ¿Buscas (MilanaBonita\, 2010) mostra el grau de maduresa d’aquest grup. Set temes originals i dues versions\, de Depeche Mode i The Smiths\, amb la col·laboració de Mario Rossy al contrabaix.
URL:https://octubre.cat/activitat/naima/
LOCATION:No definit
CATEGORIES:Cicle de música pop
ATTACH;FMTTYPE=image/jpeg:https://octubre.cat/www/wp-content/uploads/2020/07/activitat1303.jpg
END:VEVENT
END:VCALENDAR