BEGIN:VCALENDAR
VERSION:2.0
PRODID:-//Octubre Centre de Cultura Contemporània - ECPv5.1.6//NONSGML v1.0//EN
CALSCALE:GREGORIAN
METHOD:PUBLISH
X-WR-CALNAME:Octubre Centre de Cultura Contemporània
X-ORIGINAL-URL:https://octubre.cat
X-WR-CALDESC:Events for Octubre Centre de Cultura Contemporània
BEGIN:VTIMEZONE
TZID:Europe/Andorra
BEGIN:DAYLIGHT
TZOFFSETFROM:+0100
TZOFFSETTO:+0200
TZNAME:CEST
DTSTART:20070325T010000
END:DAYLIGHT
BEGIN:STANDARD
TZOFFSETFROM:+0200
TZOFFSETTO:+0100
TZNAME:CET
DTSTART:20071028T010000
END:STANDARD
END:VTIMEZONE
BEGIN:VEVENT
DTSTART;TZID=Europe/Andorra:20070704T000000
DTEND;TZID=Europe/Andorra:20070704T000000
DTSTAMP:20260420T193921
CREATED:20200906T145227Z
LAST-MODIFIED:20260110T170819Z
UID:14896-1183507200-1183507200@octubre.cat
SUMMARY:(((vibra))): Nad Spiro
DESCRIPTION:Rosa Arruti aka Nad Spiro\, investigadora sònica d’ample espectre musical\, prové de l’incert subterrani barceloní: Psicópatas del Norte\, Mohochemie\, Tendre Tembles\, pOp EyE sPy\, Nido GAZ\,… \n—\nSessió del cicle (((vibra))) d’art sonor i música experimental.\nUna producció de l’Octubre CCC coordinada per Rubén García (Eozöon Rec. / València)
URL:https://octubre.cat/activitat/nad-spiro/
LOCATION:Sala d’actes
CATEGORIES:Vibra
ATTACH;FMTTYPE=image/jpeg:https://octubre.cat/www/wp-content/uploads/2020/09/unnamed.jpg
END:VEVENT
END:VCALENDAR