BEGIN:VCALENDAR
VERSION:2.0
PRODID:-//Octubre Centre de Cultura Contemporània - ECPv5.1.6//NONSGML v1.0//EN
CALSCALE:GREGORIAN
METHOD:PUBLISH
X-WR-CALNAME:Octubre Centre de Cultura Contemporània
X-ORIGINAL-URL:https://octubre.cat
X-WR-CALDESC:Events for Octubre Centre de Cultura Contemporània
BEGIN:VTIMEZONE
TZID:Europe/Andorra
BEGIN:DAYLIGHT
TZOFFSETFROM:+0100
TZOFFSETTO:+0200
TZNAME:CEST
DTSTART:20160327T010000
END:DAYLIGHT
BEGIN:STANDARD
TZOFFSETFROM:+0200
TZOFFSETTO:+0100
TZNAME:CET
DTSTART:20161030T010000
END:STANDARD
END:VTIMEZONE
BEGIN:VEVENT
DTSTART;TZID=Europe/Andorra:20161107T170000
DTEND;TZID=Europe/Andorra:20161107T170000
DTSTAMP:20260420T235329
CREATED:20200729T172207Z
LAST-MODIFIED:20200729T185645Z
UID:10888-1478538000-1478538000@octubre.cat
SUMMARY:MultiPinPanPun
DESCRIPTION:Dilluns 7 de novembre de 17.00h a 21.30h. Música electrònica\, improvisada i experimental. Entrades de 10 a 3 euros (tu poses el preu)  \n  \n  \n\n ¡Improvisadors\, experimentació! La veu\, els aparells\, els instruments explorats de formes mai no vistes. El festival PinPanPun (que al gener celebrarà la seua cinquena edició a l’Octubre CCC) propicia una trobada inoblidable amb la gira itinerant europea del col·lectiu Multiversal.  17:00 – 17:30 Fuego / Antonio Sánchez – electrònica\, bateria\, guitarra 17:30 – 18:00 Cristina Latorre / Paco Arroyo – moviment\, electrònica 18:15 – 18:45 Lorena Izquierdo / Dario Fariello / Joxean Rivas – moviment\, saxo\, bateria 18:45 – 19:15 Kazehito Seki / Utku Tavil – veu\, bateria 19:30 – 19:45 Tina Cotolí – oboe\, presentant Niobe de Thea Musgrave 19:45 – 20:15 A.L. Guillén / Avelino Saavedra /J.L. Galiana – guitarra\, bateria\, saxo 20:30 – 21:00 Mei Zhi Yong – electrònica  — De 17.00h a 21.30h Entrada variable de 10 a 3 € (tu poses el preu)
URL:https://octubre.cat/activitat/multipinpanpun/
LOCATION:Sala d’actes
CATEGORIES:Música
ATTACH;FMTTYPE=image/jpeg:https://octubre.cat/www/wp-content/uploads/2020/07/activitat2703.jpg
END:VEVENT
END:VCALENDAR