BEGIN:VCALENDAR
VERSION:2.0
PRODID:-//Octubre Centre de Cultura Contemporània - ECPv5.1.6//NONSGML v1.0//EN
CALSCALE:GREGORIAN
METHOD:PUBLISH
X-WR-CALNAME:Octubre Centre de Cultura Contemporània
X-ORIGINAL-URL:https://octubre.cat
X-WR-CALDESC:Events for Octubre Centre de Cultura Contemporània
BEGIN:VTIMEZONE
TZID:Europe/Andorra
BEGIN:DAYLIGHT
TZOFFSETFROM:+0100
TZOFFSETTO:+0200
TZNAME:CEST
DTSTART:20160327T010000
END:DAYLIGHT
BEGIN:STANDARD
TZOFFSETFROM:+0200
TZOFFSETTO:+0100
TZNAME:CET
DTSTART:20161030T010000
END:STANDARD
END:VTIMEZONE
BEGIN:VEVENT
DTSTART;TZID=Europe/Andorra:20161007T000000
DTEND;TZID=Europe/Andorra:20161016T000000
DTSTAMP:20260421T115956
CREATED:20200729T172029Z
LAST-MODIFIED:20200729T185601Z
UID:10785-1475798400-1476576000@octubre.cat
SUMMARY:Mostra Viva del Mediterrani 2016
DESCRIPTION:Del 7 al 16 d’octubre de 2016. Quarta edició de la mostra de cinema\, art\, literatura\, música\, etc.  \n  \n  \n\n Cultura i conflictes al Mediterrani  Mostra Viva del Mediterrani presenta la seua quarta edició. Una Mostra que supera els tres anys de resistència a la penúria cultural i afronta un procés de transició cap a la consolidació d’una fita que va fent de València un lloc de trobada de les cultures de la Mediterrània.  Cinema\, literatura\, art\, música\, debats\, escena… amb activitats a tota la ciutat de València: l’Octubre CCC\, La Nau\, Palau de la Música\, MuVIM\, Biblioteca Valenciana\, IVAM\, la Filmoteca…  Al nostre centre es realitzaran projeccions de cinema totes les vesprades des del 8 fins al 16 d’octubre.  Al mateix temps també es podran visitar tres exposicions que s’inauguren el dijous 6 d’octubre a les 20.00h: —Mediterrani: mar de murs (fins al 30 d’octubre) —De València a Gaza\, fotografies de David Segarra (fins el 16 d’octubre) —Mediterrani\, col·lectiva de fotografia (del 6 al 256 d’octubre)  La Mostra està organitzada per l’associació Mostra Viva del Mediterrani\, el centre cultural La Nau i la Fundació Assemblea de Ciutadans i Ciutadanes del Mediterrani\, i compta amb el patrocini institucional de la Generalitat Valenciana\, la Diputació de València i l’Ajuntament de València.
URL:https://octubre.cat/activitat/mostra-viva-del-mediterrani-2016/
LOCATION:Sala d’actes
CATEGORIES:Cinema
ATTACH;FMTTYPE=image/jpeg:https://octubre.cat/www/wp-content/uploads/2020/07/activitat2646.jpg
END:VEVENT
END:VCALENDAR