BEGIN:VCALENDAR
VERSION:2.0
PRODID:-//Octubre Centre de Cultura Contemporània - ECPv5.1.6//NONSGML v1.0//EN
CALSCALE:GREGORIAN
METHOD:PUBLISH
X-WR-CALNAME:Octubre Centre de Cultura Contemporània
X-ORIGINAL-URL:https://octubre.cat
X-WR-CALDESC:Events for Octubre Centre de Cultura Contemporània
BEGIN:VTIMEZONE
TZID:Europe/Andorra
BEGIN:DAYLIGHT
TZOFFSETFROM:+0100
TZOFFSETTO:+0200
TZNAME:CEST
DTSTART:20150329T010000
END:DAYLIGHT
BEGIN:STANDARD
TZOFFSETFROM:+0200
TZOFFSETTO:+0100
TZNAME:CET
DTSTART:20151025T010000
END:STANDARD
END:VTIMEZONE
BEGIN:VEVENT
DTSTART;TZID=Europe/Andorra:20151014T000000
DTEND;TZID=Europe/Andorra:20151014T000000
DTSTAMP:20260421T182221
CREATED:20200729T171310Z
LAST-MODIFIED:20200730T041533Z
UID:10313-1444780800-1444780800@octubre.cat
SUMMARY:Mostra Viva del Mediterrani 2015
DESCRIPTION:Del 14 al 18 d’octubre. Projeccions a l’Octubre CCC totes les vesprades  \n  \n  \n\n Per tercer any\, l’Octubre CCC participa en les activitats de Mostra Viva del Mediterrani.   PROJECCIONS A L’OCTUBRE CCC  Dijous 15 d’octubre 17.00h: —El corredor\, de José Luis Montesinos (2014)\, 12′. —El Terrer\, un poble emmudit\, d’Òscar Navarro i Sergi Tarín (2012)\, 93′ 19.00h: —Dones de novembre. Les fosses clandestines del franquisme\, d’Òscar Navarro i Sergi Tarín (2015)\, 74′.  Divendres 16 d’octubre 17.00h: —Wasted night de Joseph Catté (2014)\, 3′ —Salomé 1970-2015\, de Rafael Gassent (2015)\, 18′ —Unes cames com les teues\, de Rafael Gassent (2015)\, 35′ 19.00h: —Sóc la Margot\, d’Enrique Belloch  Dissabte 17 d’octubre 17.00h: —Identidad\, d’Alejandro Figeras (2012)\, 24′ —Liberame\, de Piero de Luca i Max Aiello (2015)\, 80′ 19.00h: —Una nit al museu de titelles\, de Roger Moll\, 30′ —Maria Domínguez\, la palabra libre\, de Vicky Calavia\, 28′  Diumenge 18 d’octubre 16.45h: —Operació Stanbrook: viatge a l’exili republicà\, 75 anys després\, de Rosa Brines. Presentació i debat amb testimonis i supervivents.  També presentem l’exposició Bon vent i barca nova\, que s’inaugura el dimarts 13 d’octubre.
URL:https://octubre.cat/activitat/mostra-viva-del-mediterrani-2015/
LOCATION:Sala d’actes
CATEGORIES:Cinema
ATTACH;FMTTYPE=image/jpeg:https://octubre.cat/www/wp-content/uploads/2020/07/activitat2398.jpg
END:VEVENT
END:VCALENDAR